BEGIN:VCALENDAR
VERSION:2.0
PRODID:-//BeActive FrankfurtRheinMain - ECPv6.3.7//NONSGML v1.0//EN
CALSCALE:GREGORIAN
METHOD:PUBLISH
X-ORIGINAL-URL:https://beactive-frankfurt.de
X-WR-CALDESC:Veranstaltungen für BeActive FrankfurtRheinMain
REFRESH-INTERVAL;VALUE=DURATION:PT1H
X-Robots-Tag:noindex
X-PUBLISHED-TTL:PT1H
BEGIN:VTIMEZONE
TZID:Europe/Berlin
BEGIN:DAYLIGHT
TZOFFSETFROM:+0100
TZOFFSETTO:+0200
TZNAME:CEST
DTSTART:20250330T010000
END:DAYLIGHT
BEGIN:STANDARD
TZOFFSETFROM:+0200
TZOFFSETTO:+0100
TZNAME:CET
DTSTART:20251026T010000
END:STANDARD
END:VTIMEZONE
BEGIN:VEVENT
DTSTART;TZID=Europe/Berlin:20250929T193000
DTEND;TZID=Europe/Berlin:20250929T213000
DTSTAMP:20260421T150607
CREATED:20250710T080714Z
LAST-MODIFIED:20250820T112040Z
UID:10000772-1759174200-1759181400@beactive-frankfurt.de
SUMMARY:CheerDance Probetraining ab 16 Jahre
DESCRIPTION:Wir bringen dir typische Dancemoves aus dem Cheerleading bei. Unsere Trainerin war oft in den USA und hat von den besten Trainerinnen der NFL gelernt. Die Dallas Cowboys Cheerleaders faszinieren dich mit ihrer Ausstrahlung und ihrem Können? Dann komm vorbei und wir zeigen dir\, wie das geht. \n 
URL:https://beactive-frankfurt.de/veranstaltung/cheerdance-probetraining-ab-16-jahre-2/
LOCATION:Turnhalle der IGS 15\, Gotenstraße 38\, Frankfurt\, Hessen\, 65929\, Deutschland
CATEGORIES:#BeActive Schnuppern,#BeActive Women
ATTACH;FMTTYPE=image/jpeg:https://beactive-frankfurt.de/wp-content/uploads/2025/07/Schnuppern_CheerDance.jpg
ORGANIZER;CN="AFC Universe Frankfurt e.V.":MAILTO:bianka.minner@t-online.de
END:VEVENT
BEGIN:VEVENT
DTSTART;TZID=Europe/Berlin:20250925T193000
DTEND;TZID=Europe/Berlin:20250925T213000
DTSTAMP:20260421T150607
CREATED:20250710T080709Z
LAST-MODIFIED:20250729T090835Z
UID:10000771-1758828600-1758835800@beactive-frankfurt.de
SUMMARY:CheerDance Probetraining ab 16 Jahre
DESCRIPTION:Wir bringen dir typische Dancemoves aus dem Cheerleading bei. Unsere Trainerin war oft in den USA und hat von den besten Trainerinnen der NFL gelernt. Die Dallas Cowboys Cheerleaders faszinieren dich mit ihrer Ausstrahlung und ihrem Können? Dann komm vorbei und wir zeigen dir\, wie das geht.
URL:https://beactive-frankfurt.de/veranstaltung/cheerdance-probetraining-ab-16-jahre/
LOCATION:SAALBAU Griesheim (großer Saal)\, Schwarzerlenweg 57\, Frankfurt\, Hessen\, 65933\, Deutschland
CATEGORIES:#BeActive Schnuppern
ATTACH;FMTTYPE=image/jpeg:https://beactive-frankfurt.de/wp-content/uploads/2025/07/Schnuppern_CheerDance.jpg
ORGANIZER;CN="AFC Universe Frankfurt e.V.":MAILTO:bianka.minner@t-online.de
END:VEVENT
END:VCALENDAR