BEGIN:VCALENDAR
VERSION:2.0
PRODID:-//BeActive FrankfurtRheinMain - ECPv6.3.7//NONSGML v1.0//EN
CALSCALE:GREGORIAN
METHOD:PUBLISH
X-ORIGINAL-URL:https://beactive-frankfurt.de
X-WR-CALDESC:Veranstaltungen für BeActive FrankfurtRheinMain
REFRESH-INTERVAL;VALUE=DURATION:PT1H
X-Robots-Tag:noindex
X-PUBLISHED-TTL:PT1H
BEGIN:VTIMEZONE
TZID:Europe/Berlin
BEGIN:DAYLIGHT
TZOFFSETFROM:+0100
TZOFFSETTO:+0200
TZNAME:CEST
DTSTART:20250330T010000
END:DAYLIGHT
BEGIN:STANDARD
TZOFFSETFROM:+0200
TZOFFSETTO:+0100
TZNAME:CET
DTSTART:20251026T010000
END:STANDARD
END:VTIMEZONE
BEGIN:VEVENT
DTSTART;TZID=Europe/Berlin:20250930T180000
DTEND;TZID=Europe/Berlin:20250930T210000
DTSTAMP:20260423T204737
CREATED:20250822T131307Z
LAST-MODIFIED:20250825T070916Z
UID:10000974-1759255200-1759266000@beactive-frankfurt.de
SUMMARY:Baseball und Softball Schnuppertraining bei den Hornets
DESCRIPTION:Erlernen der Sportarten Baseball und Softball: Werfen\, Fangen\, Schlagen\, Laufen\, Taktik. \nBaseball – der Sport mit Spannung\, Teamgeist und Action! Die Bad Homburg Hornets laden alle Interessierten ein\, die Faszination des amerikanischen Nationalsports direkt vor Ort auszuprobieren. \nEgal ob Werfen\, Fangen\, Schlagen oder Laufen: In unserem Schnuppertraining lernst du die Grundlagen des Spiels kennen und kannst erste Spielzüge selbst ausprobieren. Dabei stehen Teamgeist\, Spaß an der Bewegung und das gemeinsame Erlebnis im Vordergrund. \nMitbringen musst du nichts außer sportlicher Kleidung und Lust auf etwas Neues – Handschuhe\, Schläger und Bälle stellen wir dir zur Verfügung. \nKomm vorbei und entdecke\, wie viel Freude Baseball macht – sei Teil der Hornets-Familie!
URL:https://beactive-frankfurt.de/veranstaltung/baseball-und-softball-schnuppertraining-4/
LOCATION:Taunus-Ballpark\, Sportzentrum Nordwest\, Usinger Weg\, Bad Homburg-Kirdorf\, Bad Homburg\, 61350
CATEGORIES:#BeActive Aktionstage & Events,#BeActive Schnuppern
ATTACH;FMTTYPE=image/jpeg:https://beactive-frankfurt.de/wp-content/uploads/2025/08/343121585_896238124769602_4029475213167164858_n-960x540-1.jpg
ORGANIZER;CN="Bad Homburg 1992 Hornets e.V.":MAILTO:info@bad-homburg-hornets.de
END:VEVENT
BEGIN:VEVENT
DTSTART;TZID=Europe/Berlin:20250930T173000
DTEND;TZID=Europe/Berlin:20250930T193000
DTSTAMP:20260423T204737
CREATED:20250822T131254Z
LAST-MODIFIED:20250822T131256Z
UID:10000972-1759253400-1759260600@beactive-frankfurt.de
SUMMARY:Baseball und Softball Schnuppertraining
DESCRIPTION:Erlernen der Sportarten Baseball und Softball: Werfen\, Fangen\, Schlagen\, Laufen\, Taktik.
URL:https://beactive-frankfurt.de/veranstaltung/baseball-und-softball-schnuppertraining-2/
LOCATION:Taunus-Ballpark\, Sportzentrum Nordwest\, Usinger Weg\, Bad Homburg-Kirdorf\, Bad Homburg\, 61350
ATTACH;FMTTYPE=image/png:https://beactive-frankfurt.de/wp-content/uploads/2025/08/MSRM-Angebote.png
ORGANIZER;CN="Bad Homburg 1992 Hornets e.V.":MAILTO:info@bad-homburg-hornets.de
END:VEVENT
BEGIN:VEVENT
DTSTART;TZID=Europe/Berlin:20250929T184500
DTEND;TZID=Europe/Berlin:20250929T210000
DTSTAMP:20260423T204737
CREATED:20250822T131301Z
LAST-MODIFIED:20250822T131302Z
UID:10000973-1759171500-1759179600@beactive-frankfurt.de
SUMMARY:Baseball und Softball Schnuppertraining
DESCRIPTION:Erlernen der Sportarten Baseball und Softball: Werfen\, Fangen\, Schlagen\, Laufen\, Taktik.
URL:https://beactive-frankfurt.de/veranstaltung/baseball-und-softball-schnuppertraining-3/
LOCATION:Taunus-Ballpark\, Sportzentrum Nordwest\, Usinger Weg\, Bad Homburg-Kirdorf\, Bad Homburg\, 61350
ATTACH;FMTTYPE=image/png:https://beactive-frankfurt.de/wp-content/uploads/2025/08/MSRM-Angebote.png
ORGANIZER;CN="Bad Homburg 1992 Hornets e.V.":MAILTO:info@bad-homburg-hornets.de
END:VEVENT
BEGIN:VEVENT
DTSTART;TZID=Europe/Berlin:20250929T173000
DTEND;TZID=Europe/Berlin:20250929T193000
DTSTAMP:20260423T204737
CREATED:20250822T131248Z
LAST-MODIFIED:20250822T131250Z
UID:10000971-1759167000-1759174200@beactive-frankfurt.de
SUMMARY:Baseball und Softball Schnuppertraining
DESCRIPTION:Erlernen der Sportarten Baseball und Softball: Werfen\, Fangen\, Schlagen\, Laufen\, Taktik.
URL:https://beactive-frankfurt.de/veranstaltung/baseball-und-softball-schnuppertraining/
LOCATION:Taunus-Ballpark\, Sportzentrum Nordwest\, Usinger Weg\, Bad Homburg-Kirdorf\, Bad Homburg\, 61350
ATTACH;FMTTYPE=image/png:https://beactive-frankfurt.de/wp-content/uploads/2025/08/MSRM-Angebote.png
ORGANIZER;CN="Bad Homburg 1992 Hornets e.V.":MAILTO:info@bad-homburg-hornets.de
END:VEVENT
END:VCALENDAR