BEGIN:VCALENDAR
VERSION:2.0
PRODID:-//BeActive FrankfurtRheinMain - ECPv6.3.7//NONSGML v1.0//EN
CALSCALE:GREGORIAN
METHOD:PUBLISH
X-ORIGINAL-URL:https://beactive-frankfurt.de
X-WR-CALDESC:Veranstaltungen für BeActive FrankfurtRheinMain
REFRESH-INTERVAL;VALUE=DURATION:PT1H
X-Robots-Tag:noindex
X-PUBLISHED-TTL:PT1H
BEGIN:VTIMEZONE
TZID:Europe/Berlin
BEGIN:DAYLIGHT
TZOFFSETFROM:+0100
TZOFFSETTO:+0200
TZNAME:CEST
DTSTART:20250330T010000
END:DAYLIGHT
BEGIN:STANDARD
TZOFFSETFROM:+0200
TZOFFSETTO:+0100
TZNAME:CET
DTSTART:20251026T010000
END:STANDARD
END:VTIMEZONE
BEGIN:VEVENT
DTSTART;TZID=Europe/Berlin:20250928T110000
DTEND;TZID=Europe/Berlin:20250928T123000
DTSTAMP:20260424T194334
CREATED:20250707T084306Z
LAST-MODIFIED:20250731T134055Z
UID:10000742-1759057200-1759062600@beactive-frankfurt.de
SUMMARY:Karate für die ganze Familie (ab 5J\, für Jung & Alt)
DESCRIPTION:Karate für die ganze Familie (ab 5J\, für Jung & Alt) \nDer Kobudo Kampfsport Friedberg Wetterau e. V. steht für die Bewahrung und Vermittlung traditioneller okinawischer Kampfkünste wie Kobudo\, Karate (Shotokan & Shorinryu)\, Kenjutsu sowie Kyusho Jutsu. Der Verein legt Wert auf hochqualifiziertes Training\, kulturelle Tiefe\, enge Zusammenarbeit mit international anerkannten Großmeistern und ein breites Angebot für alle Altersgruppen. Neben regelmäßigen Trainingseinheiten finden auch Seminare\, Prüfungen und intensive Fortbildungen statt – alles unter dem Leitbild: Tradition\, Qualität und respektvolles Miteinander im Kampfsport.
URL:https://beactive-frankfurt.de/veranstaltung/karate-fuer-die-ganze-familie-ab-5j-fuer-jung-alt/
LOCATION:Sporthalle der Adolf-Reichwein-Schule\, Ketteler Straße 40\, Friedberg (Hessen)\, Hessen\, 61169\, Deutschland
CATEGORIES:#BeActive Schnuppern
ATTACH;FMTTYPE=image/jpeg:https://beactive-frankfurt.de/wp-content/uploads/2025/07/Schnuppern_Karate.jpg
ORGANIZER;CN="Karate-Kobudo-Fitness Friedberg/H. e.V.":MAILTO:-
END:VEVENT
BEGIN:VEVENT
DTSTART;TZID=Europe/Berlin:20250926T191500
DTEND;TZID=Europe/Berlin:20250926T201500
DTSTAMP:20260424T194334
CREATED:20250707T084259Z
LAST-MODIFIED:20250731T131459Z
UID:10000741-1758914100-1758917700@beactive-frankfurt.de
SUMMARY:Karate\, der Gesundheitssport
DESCRIPTION:Karate\, der Gesundheitssport \nDer Kobudo Kampfsport Friedberg Wetterau e. V. steht für die Bewahrung und Vermittlung traditioneller okinawischer Kampfkünste wie Kobudo\, Karate (Shotokan & Shorinryu)\, Kenjutsu sowie Kyusho Jutsu. Der Verein legt Wert auf hochqualifiziertes Training\, kulturelle Tiefe\, enge Zusammenarbeit mit international anerkannten Großmeistern und ein breites Angebot für alle Altersgruppen. Neben regelmäßigen Trainingseinheiten finden auch Seminare\, Prüfungen und intensive Fortbildungen statt – alles unter dem Leitbild: Tradition\, Qualität und respektvolles Miteinander im Kampfsport. \n 
URL:https://beactive-frankfurt.de/veranstaltung/karate-der-gesundheitssport/
LOCATION:Campussporthalle\, Maria-Montessori-Weg 4\, Friedberg (Hessen)\, Hessen\, 61169\, Deutschland
CATEGORIES:#BeActive Schnuppern
ATTACH;FMTTYPE=image/jpeg:https://beactive-frankfurt.de/wp-content/uploads/2025/07/Schnuppern_Karate-1.jpg
ORGANIZER;CN="Karate-Kobudo-Fitness Friedberg/H. e.V.":MAILTO:-
END:VEVENT
BEGIN:VEVENT
DTSTART;TZID=Europe/Berlin:20250926T183000
DTEND;TZID=Europe/Berlin:20250926T191500
DTSTAMP:20260424T194334
CREATED:20250707T084256Z
LAST-MODIFIED:20250731T145432Z
UID:10000740-1758911400-1758914100@beactive-frankfurt.de
SUMMARY:Karate zum Auspowern (Jugendliche ab 11J. - 18J.)
DESCRIPTION:Karate zum Auspowern (Jugendliche ab 11J. – 18J.) \nDer Kobudo Kampfsport Friedberg Wetterau e. V. steht für die Bewahrung und Vermittlung traditioneller okinawischer Kampfkünste wie Kobudo\, Karate (Shotokan & Shorinryu)\, Kenjutsu sowie Kyusho Jutsu. Der Verein legt Wert auf hochqualifiziertes Training\, kulturelle Tiefe\, enge Zusammenarbeit mit international anerkannten Großmeistern und ein breites Angebot für alle Altersgruppen. Neben regelmäßigen Trainingseinheiten finden auch Seminare\, Prüfungen und intensive Fortbildungen statt – alles unter dem Leitbild: Tradition\, Qualität und respektvolles Miteinander im Kampfsport.
URL:https://beactive-frankfurt.de/veranstaltung/karate-zum-auspowern-jugendliche-ab-11j-18j/
LOCATION:Campussporthalle\, Maria-Montessori-Weg 4\, Friedberg (Hessen)\, Hessen\, 61169\, Deutschland
CATEGORIES:#BeActive Schnuppern
ATTACH;FMTTYPE=image/jpeg:https://beactive-frankfurt.de/wp-content/uploads/2025/07/Schnuppern_Karate.jpg
ORGANIZER;CN="Karate-Kobudo-Fitness Friedberg/H. e.V.":MAILTO:-
END:VEVENT
BEGIN:VEVENT
DTSTART;TZID=Europe/Berlin:20250926T170000
DTEND;TZID=Europe/Berlin:20250926T174500
DTSTAMP:20260424T194334
CREATED:20250707T084253Z
LAST-MODIFIED:20250731T145309Z
UID:10000739-1758906000-1758908700@beactive-frankfurt.de
SUMMARY:Karate & Kobudo für Kids (ab 5J. - 11J.)
DESCRIPTION:Karate & Kobudo für Kids (ab 5J. – 11J.) \nDer Kobudo Kampfsport Friedberg Wetterau e. V. steht für die Bewahrung und Vermittlung traditioneller okinawischer Kampfkünste wie Kobudo\, Karate (Shotokan & Shorinryu)\, Kenjutsu sowie Kyusho Jutsu. Der Verein legt Wert auf hochqualifiziertes Training\, kulturelle Tiefe\, enge Zusammenarbeit mit international anerkannten Großmeistern und ein breites Angebot für alle Altersgruppen. Neben regelmäßigen Trainingseinheiten finden auch Seminare\, Prüfungen und intensive Fortbildungen statt – alles unter dem Leitbild: Tradition\, Qualität und respektvolles Miteinander im Kampfsport.
URL:https://beactive-frankfurt.de/veranstaltung/karate-kobudo-fuer-kids-ab-5j-11j/
LOCATION:Campussporthalle\, Maria-Montessori-Weg 4\, Friedberg (Hessen)\, Hessen\, 61169\, Deutschland
CATEGORIES:#BeActive Schnuppern
ATTACH;FMTTYPE=image/jpeg:https://beactive-frankfurt.de/wp-content/uploads/2025/07/Schnuppern_Karate.jpg
ORGANIZER;CN="Karate-Kobudo-Fitness Friedberg/H. e.V.":MAILTO:-
END:VEVENT
BEGIN:VEVENT
DTSTART;TZID=Europe/Berlin:20250925T164500
DTEND;TZID=Europe/Berlin:20250925T174500
DTSTAMP:20260424T194334
CREATED:20250707T084250Z
LAST-MODIFIED:20250731T145022Z
UID:10000738-1758818700-1758822300@beactive-frankfurt.de
SUMMARY:Sturzprophylaxe mit asiatischer Kampfkunst (ab 60 Jahre)
DESCRIPTION:Sturzprophylaxe mit asiatischer Kampfkunst (ab 60 Jahre) \nDer Kobudo Kampfsport Friedberg Wetterau e. V. steht für die Bewahrung und Vermittlung traditioneller okinawischer Kampfkünste wie Kobudo\, Karate (Shotokan & Shorinryu)\, Kenjutsu sowie Kyusho Jutsu. Der Verein legt Wert auf hochqualifiziertes Training\, kulturelle Tiefe\, enge Zusammenarbeit mit international anerkannten Großmeistern und ein breites Angebot für alle Altersgruppen. Neben regelmäßigen Trainingseinheiten finden auch Seminare\, Prüfungen und intensive Fortbildungen statt – alles unter dem Leitbild: Tradition\, Qualität und respektvolles Miteinander im Kampfsport.
URL:https://beactive-frankfurt.de/veranstaltung/sturzprophylaxe-mit-asiatischer-kampfkunst-ab-60-jahre/
LOCATION:Sporthalle der Helmut-von-Bracken-Schule\, Im Wingert 7\, Friedberg (Hessen)\, Hessen\, 61169\, Deutschland
CATEGORIES:#BeActive im Alter
ATTACH;FMTTYPE=image/jpeg:https://beactive-frankfurt.de/wp-content/uploads/2025/07/Schnuppern_FitneesAelter.jpg
ORGANIZER;CN="Karate-Kobudo-Fitness Friedberg/H. e.V.":MAILTO:-
END:VEVENT
BEGIN:VEVENT
DTSTART;TZID=Europe/Berlin:20250924T200000
DTEND;TZID=Europe/Berlin:20250924T213000
DTSTAMP:20260424T194334
CREATED:20250707T084246Z
LAST-MODIFIED:20250731T144814Z
UID:10000737-1758744000-1758749400@beactive-frankfurt.de
SUMMARY:Karate & Kobudo\, Einführung in die historische Selbstverteidigung
DESCRIPTION:Karate & Kobudo\, Einführung in die historische Selbstverteidigung \nDer Kobudo Kampfsport Friedberg Wetterau e. V. steht für die Bewahrung und Vermittlung traditioneller okinawischer Kampfkünste wie Kobudo\, Karate (Shotokan & Shorinryu)\, Kenjutsu sowie Kyusho Jutsu. Der Verein legt Wert auf hochqualifiziertes Training\, kulturelle Tiefe\, enge Zusammenarbeit mit international anerkannten Großmeistern und ein breites Angebot für alle Altersgruppen. Neben regelmäßigen Trainingseinheiten finden auch Seminare\, Prüfungen und intensive Fortbildungen statt – alles unter dem Leitbild: Tradition\, Qualität und respektvolles Miteinander im Kampfsport.
URL:https://beactive-frankfurt.de/veranstaltung/karate-kobudo-einfuehrung-in-die-historische-selbstverteidigung/
LOCATION:Sporthalle der J.-Philipp-Reis-Schule\, Im Wingert 5\, Friedberg (Hessen)\, Hessen\, 61169\, Deutschland
CATEGORIES:#BeActive Schnuppern
ATTACH;FMTTYPE=image/jpeg:https://beactive-frankfurt.de/wp-content/uploads/2025/07/Schnuppern_Karate-1.jpg
ORGANIZER;CN="Karate-Kobudo-Fitness Friedberg/H. e.V.":MAILTO:-
END:VEVENT
BEGIN:VEVENT
DTSTART;TZID=Europe/Berlin:20250923T163000
DTEND;TZID=Europe/Berlin:20250923T171500
DTSTAMP:20260424T194334
CREATED:20250707T084236Z
LAST-MODIFIED:20250825T063717Z
UID:10000736-1758645000-1758647700@beactive-frankfurt.de
SUMMARY:Karate bewegt Kids (ab 5 Jahre)
DESCRIPTION:Karate bewegt Kids (ab 5 Jahre) \nAktivität: #BeActive Schnuppern \nInklusiv: Inklusiv \n 
URL:https://beactive-frankfurt.de/veranstaltung/karate-bewegt-kids-ab-5-jahre/
LOCATION:Campussporthalle\, Maria-Montessori-Weg 4\, Friedberg (Hessen)\, Hessen\, 61169\, Deutschland
CATEGORIES:#BeActive Kinder & Jugendliche,#BeActive Schnuppern
ATTACH;FMTTYPE=image/jpeg:https://beactive-frankfurt.de/wp-content/uploads/2025/07/487783165_1167308268739357_5463731822658053288_n.jpg
ORGANIZER;CN="Karate-Kobudo-Fitness Friedberg/H. e.V.":MAILTO:-
END:VEVENT
END:VCALENDAR