BEGIN:VCALENDAR
VERSION:2.0
PRODID:-//BeActive FrankfurtRheinMain - ECPv6.3.7//NONSGML v1.0//EN
CALSCALE:GREGORIAN
METHOD:PUBLISH
X-ORIGINAL-URL:https://beactive-frankfurt.de
X-WR-CALDESC:Veranstaltungen für BeActive FrankfurtRheinMain
REFRESH-INTERVAL;VALUE=DURATION:PT1H
X-Robots-Tag:noindex
X-PUBLISHED-TTL:PT1H
BEGIN:VTIMEZONE
TZID:Europe/Berlin
BEGIN:DAYLIGHT
TZOFFSETFROM:+0100
TZOFFSETTO:+0200
TZNAME:CEST
DTSTART:20250330T010000
END:DAYLIGHT
BEGIN:STANDARD
TZOFFSETFROM:+0200
TZOFFSETTO:+0100
TZNAME:CET
DTSTART:20251026T010000
END:STANDARD
END:VTIMEZONE
BEGIN:VEVENT
DTSTART;TZID=Europe/Berlin:20250929T200000
DTEND;TZID=Europe/Berlin:20250929T213000
DTSTAMP:20260423T110224
CREATED:20250822T140102Z
LAST-MODIFIED:20250822T140105Z
UID:10001303-1759176000-1759181400@beactive-frankfurt.de
SUMMARY:Judo Schnuppertraining für Kinder\, Jugendliche und Erwachsene 4-120 Jahre
DESCRIPTION:Bitte wählen Sie ein reguläres Trainingsangebot passend zur Altergruppe aus der Liste der Trainingstermine. Interessierte haben die Möglichkeit bis zu 3x kostenfrei an einem Probetraining teilzunehmen. Probetraining vereinbaren
URL:https://beactive-frankfurt.de/veranstaltung/judo-schnuppertraining-fuer-kinder-jugendliche-und-erwachsene-4-120-jahre/
LOCATION:Sporthalle Heinrich-Böll-Schule (Montag: Große Halle\, Freitag: Kleine Halle)\, Schulstraße 100\, Hattersheim am Main\, 65795
ATTACH;FMTTYPE=image/png:https://beactive-frankfurt.de/wp-content/uploads/2025/08/MSRM-Angebote.png
ORGANIZER;CN="Turnverein 1883 e.V. Hattersheim (TV Hattersheim) - Judo":MAILTO:tvhattersheim.judo@gmail.com
END:VEVENT
BEGIN:VEVENT
DTSTART;TZID=Europe/Berlin:20250929T183000
DTEND;TZID=Europe/Berlin:20250929T200000
DTSTAMP:20260423T110224
CREATED:20250822T140116Z
LAST-MODIFIED:20250822T140119Z
UID:10001305-1759170600-1759176000@beactive-frankfurt.de
SUMMARY:Judo Schnuppertraining für Kinder\, Jugendliche und Erwachsene 4-120 Jahre
DESCRIPTION:Bitte wählen Sie ein reguläres Trainingsangebot passend zur Altergruppe aus der Liste der Trainingstermine. Interessierte haben die Möglichkeit bis zu 3x kostenfrei an einem Probetraining teilzunehmen. Probetraining vereinbaren
URL:https://beactive-frankfurt.de/veranstaltung/judo-schnuppertraining-fuer-kinder-jugendliche-und-erwachsene-4-120-jahre-3/
LOCATION:Sporthalle Heinrich-Böll-Schule (Montag: Große Halle\, Freitag: Kleine Halle)\, Schulstraße 100\, Hattersheim am Main\, 65795
ATTACH;FMTTYPE=image/png:https://beactive-frankfurt.de/wp-content/uploads/2025/08/MSRM-Angebote.png
ORGANIZER;CN="Turnverein 1883 e.V. Hattersheim (TV Hattersheim) - Judo":MAILTO:tvhattersheim.judo@gmail.com
END:VEVENT
BEGIN:VEVENT
DTSTART;TZID=Europe/Berlin:20250929T170000
DTEND;TZID=Europe/Berlin:20250929T183000
DTSTAMP:20260423T110224
CREATED:20250822T140124Z
LAST-MODIFIED:20250822T140126Z
UID:10001306-1759165200-1759170600@beactive-frankfurt.de
SUMMARY:Judo Schnuppertraining für Kinder\, Jugendliche und Erwachsene 4-120 Jahre
DESCRIPTION:Bitte wählen Sie ein reguläres Trainingsangebot passend zur Altergruppe aus der Liste der Trainingstermine. Interessierte haben die Möglichkeit bis zu 3x kostenfrei an einem Probetraining teilzunehmen. Probetraining vereinbaren
URL:https://beactive-frankfurt.de/veranstaltung/judo-schnuppertraining-fuer-kinder-jugendliche-und-erwachsene-4-120-jahre-4/
LOCATION:Sporthalle Heinrich-Böll-Schule (Montag: Große Halle\, Freitag: Kleine Halle)\, Schulstraße 100\, Hattersheim am Main\, 65795
ATTACH;FMTTYPE=image/png:https://beactive-frankfurt.de/wp-content/uploads/2025/08/MSRM-Angebote.png
ORGANIZER;CN="Turnverein 1883 e.V. Hattersheim (TV Hattersheim) - Judo":MAILTO:tvhattersheim.judo@gmail.com
END:VEVENT
BEGIN:VEVENT
DTSTART;TZID=Europe/Berlin:20250926T170000
DTEND;TZID=Europe/Berlin:20250926T183000
DTSTAMP:20260423T110224
CREATED:20250822T140109Z
LAST-MODIFIED:20250822T140112Z
UID:10001304-1758906000-1758911400@beactive-frankfurt.de
SUMMARY:Judo Schnuppertraining für Kinder\, Jugendliche und Erwachsene 4-120 Jahre
DESCRIPTION:Bitte wählen Sie ein reguläres Trainingsangebot passend zur Altergruppe aus der Liste der Trainingstermine. Interessierte haben die Möglichkeit bis zu 3x kostenfrei an einem Probetraining teilzunehmen. Probetraining vereinbaren
URL:https://beactive-frankfurt.de/veranstaltung/judo-schnuppertraining-fuer-kinder-jugendliche-und-erwachsene-4-120-jahre-2/
LOCATION:Sporthalle Heinrich-Böll-Schule (Montag: Große Halle\, Freitag: Kleine Halle)\, Schulstraße 100\, Hattersheim am Main\, 65795
ATTACH;FMTTYPE=image/png:https://beactive-frankfurt.de/wp-content/uploads/2025/08/MSRM-Angebote.png
ORGANIZER;CN="Turnverein 1883 e.V. Hattersheim (TV Hattersheim) - Judo":MAILTO:tvhattersheim.judo@gmail.com
END:VEVENT
BEGIN:VEVENT
DTSTART;TZID=Europe/Berlin:20250926T160000
DTEND;TZID=Europe/Berlin:20250926T170000
DTSTAMP:20260423T110224
CREATED:20250822T140130Z
LAST-MODIFIED:20250822T140133Z
UID:10001307-1758902400-1758906000@beactive-frankfurt.de
SUMMARY:Judo Schnuppertraining für Kinder\, Jugendliche und Erwachsene 4-120 Jahre
DESCRIPTION:Bitte wählen Sie ein reguläres Trainingsangebot passend zur Altergruppe aus der Liste der Trainingstermine. Interessierte haben die Möglichkeit bis zu 3x kostenfrei an einem Probetraining teilzunehmen. Probetraining vereinbaren
URL:https://beactive-frankfurt.de/veranstaltung/judo-schnuppertraining-fuer-kinder-jugendliche-und-erwachsene-4-120-jahre-5/
LOCATION:Sporthalle Heinrich-Böll-Schule (Montag: Große Halle\, Freitag: Kleine Halle)\, Schulstraße 100\, Hattersheim am Main\, 65795
ATTACH;FMTTYPE=image/png:https://beactive-frankfurt.de/wp-content/uploads/2025/08/MSRM-Angebote.png
ORGANIZER;CN="Turnverein 1883 e.V. Hattersheim (TV Hattersheim) - Judo":MAILTO:tvhattersheim.judo@gmail.com
END:VEVENT
BEGIN:VEVENT
DTSTART;TZID=Europe/Berlin:20250925T163000
DTEND;TZID=Europe/Berlin:20250925T180000
DTSTAMP:20260423T110224
CREATED:20250822T140138Z
LAST-MODIFIED:20250925T081427Z
UID:10001308-1758817800-1758823200@beactive-frankfurt.de
SUMMARY:Judo Schnuppertraining für Kinder\, Jugendliche und Erwachsene 4-120 Jahre
DESCRIPTION:Verein und Familie zugleich\n\n\n\n\nSeit 1883 als traditionsreicher Verein für und mit seinen Mitgliedern erfolgreich in Bewegung. \nDer Turnverein 1883 e.V. Hattersheim bietet für Mitglieder und Interessenten jeden Alters attraktiven Mannschaftssport sowie individuelle und auch moderne Kurse an. Hierbei setzt der Verein auf Sicherheit und Beständigkeit. Im Fokus steht uns hierbei stets Dein Sporterlebnis. Mit unseren vielen ehrenamtlich tätigen Mitglieder\, die sich täglich für unseren Verein einsetzen und unseren attraktiven Mitgliederbeiträgen kombinieren wir Leistung und Spaß. Und das stets für Dich! \n\n\nBitte wählen Sie ein reguläres Trainingsangebot passend zur Altersgruppe aus der Liste der Trainingstermine. Interessierte haben die Möglichkeit bis zu 3x kostenfrei an einem Probetraining teilzunehmen. Probetraining vereinbaren.
URL:https://beactive-frankfurt.de/veranstaltung/judo-schnuppertraining-fuer-kinder-jugendliche-und-erwachsene-4-120-jahre-6/
LOCATION:Sporthalle Heinrich-Böll-Schule (Montag: Große Halle\, Freitag: Kleine Halle)\, Schulstraße 100\, Hattersheim am Main\, 65795
CATEGORIES:#BeActive Schnuppern
ATTACH;FMTTYPE=image/png:https://beactive-frankfurt.de/wp-content/uploads/2025/08/tv-hatters.png
ORGANIZER;CN="Turnverein 1883 e.V. Hattersheim (TV Hattersheim) - Judo":MAILTO:tvhattersheim.judo@gmail.com
END:VEVENT
END:VCALENDAR