BEGIN:VCALENDAR
VERSION:2.0
PRODID:-//BeActive FrankfurtRheinMain - ECPv6.3.7//NONSGML v1.0//EN
CALSCALE:GREGORIAN
METHOD:PUBLISH
X-WR-CALNAME:BeActive FrankfurtRheinMain
X-ORIGINAL-URL:https://beactive-frankfurt.de
X-WR-CALDESC:Veranstaltungen für BeActive FrankfurtRheinMain
REFRESH-INTERVAL;VALUE=DURATION:PT1H
X-Robots-Tag:noindex
X-PUBLISHED-TTL:PT1H
BEGIN:VTIMEZONE
TZID:Europe/Berlin
BEGIN:DAYLIGHT
TZOFFSETFROM:+0100
TZOFFSETTO:+0200
TZNAME:CEST
DTSTART:20250330T010000
END:DAYLIGHT
BEGIN:STANDARD
TZOFFSETFROM:+0200
TZOFFSETTO:+0100
TZNAME:CET
DTSTART:20251026T010000
END:STANDARD
END:VTIMEZONE
BEGIN:VEVENT
DTSTART;TZID=Europe/Berlin:20250926T160000
DTEND;TZID=Europe/Berlin:20250926T190000
DTSTAMP:20260420T145400
CREATED:20250822T142628Z
LAST-MODIFIED:20250910T062049Z
UID:10001498-1758902400-1758913200@beactive-frankfurt.de
SUMMARY:Sportabzeichen Leichtathletik mit dem TV Preungesheim
DESCRIPTION:Abnahmetermine des Sportabzeichens (Leichtathletik) erfolgt an folgenden Terminen: 03.05.; 24.05.; 14.06.; 21.06.; 28.06.; 05.07.; 30.08.; 06.09.; 13.09.; 20.09.2024 Bitte vorab Telefonisch oder per Mail Abstimmen!
URL:https://beactive-frankfurt.de/veranstaltung/sportabzeichen-leichtathletik/
LOCATION:Sportpark Preungesheim\, Goldpeppingstrasse 8\, Frankfurt am Main\, Hessen\, 60435\, Deutschland
CATEGORIES:#BeActive Abzeichen – Deutsches Sportabzeichen & EFB,#BeActive Kinder & Jugendliche,#BeActive Outdoor & Natur,#BeActive Schnuppern,#BeActive Women
ATTACH;FMTTYPE=image/png:https://beactive-frankfurt.de/wp-content/uploads/2025/08/MSRM-Angebote.png
ORGANIZER;CN="Turnverein Preungesheim 1880 e. V. (TV Preungesheim)":MAILTO:info@tv-preungesheim.de
END:VEVENT
END:VCALENDAR