BEGIN:VCALENDAR
VERSION:2.0
PRODID:-//BeActive FrankfurtRheinMain - ECPv6.3.7//NONSGML v1.0//EN
CALSCALE:GREGORIAN
METHOD:PUBLISH
X-WR-CALNAME:BeActive FrankfurtRheinMain
X-ORIGINAL-URL:https://beactive-frankfurt.de
X-WR-CALDESC:Veranstaltungen für BeActive FrankfurtRheinMain
REFRESH-INTERVAL;VALUE=DURATION:PT1H
X-Robots-Tag:noindex
X-PUBLISHED-TTL:PT1H
BEGIN:VTIMEZONE
TZID:Europe/Berlin
BEGIN:DAYLIGHT
TZOFFSETFROM:+0100
TZOFFSETTO:+0200
TZNAME:CEST
DTSTART:20240331T010000
END:DAYLIGHT
BEGIN:STANDARD
TZOFFSETFROM:+0200
TZOFFSETTO:+0100
TZNAME:CET
DTSTART:20241027T010000
END:STANDARD
END:VTIMEZONE
BEGIN:VEVENT
DTSTART;TZID=Europe/Berlin:20240927T150000
DTEND;TZID=Europe/Berlin:20240927T180000
DTSTAMP:20260424T002441
CREATED:20240828T115436Z
LAST-MODIFIED:20250523T113828Z
UID:10000461-1727449200-1727460000@beactive-frankfurt.de
SUMMARY:Boule Schnuppern bei der TuS Schwanheim
DESCRIPTION:Lust auf eine neue Sportart? Probieren Sie Boule aus! Unser Schnupperkurs bietet Ihnen die perfekte Gelegenheit\, die Grundlagen dieses beliebten französischen Kugelspiels kennenzulernen. Egal\, ob Sie noch nie gespielt haben oder Ihre Fähigkeiten auffrischen möchten – bei uns sind Sie herzlich willkommen. In entspannter Atmosphäre erklären wir Ihnen die Spielregeln und geben wertvolle Tipps für eine erfolgreiche Partie. Kommen Sie vorbei\, schnuppern Sie rein\, und genießen Sie das gesellige Spiel unter freiem Himmel!
URL:https://beactive-frankfurt.de/veranstaltung/boule-schnuppern-bei-der-tus-schwanheim/2024-09-27/
LOCATION:Turnhalle TuS Schwanheim\, Saarbrücker Straße 4\, Frankfurt\, 60529\, Deutschland
CATEGORIES:#BeActive Schnuppern
ATTACH;FMTTYPE=image/jpeg:https://beactive-frankfurt.de/wp-content/uploads/2024/08/Schnuppern_Schwanheim_Boule.jpg
ORGANIZER;CN="TuS 1872 Schwanheim e.V":MAILTO:info@tus-schwanheim.de
END:VEVENT
END:VCALENDAR