BEGIN:VCALENDAR
VERSION:2.0
PRODID:-//BeActive FrankfurtRheinMain - ECPv6.3.7//NONSGML v1.0//EN
CALSCALE:GREGORIAN
METHOD:PUBLISH
X-ORIGINAL-URL:https://beactive-frankfurt.de
X-WR-CALDESC:Veranstaltungen für BeActive FrankfurtRheinMain
REFRESH-INTERVAL;VALUE=DURATION:PT1H
X-Robots-Tag:noindex
X-PUBLISHED-TTL:PT1H
BEGIN:VTIMEZONE
TZID:Europe/Berlin
BEGIN:DAYLIGHT
TZOFFSETFROM:+0100
TZOFFSETTO:+0200
TZNAME:CEST
DTSTART:20250330T010000
END:DAYLIGHT
BEGIN:STANDARD
TZOFFSETFROM:+0200
TZOFFSETTO:+0100
TZNAME:CET
DTSTART:20251026T010000
END:STANDARD
END:VTIMEZONE
BEGIN:VEVENT
DTSTART;TZID=Europe/Berlin:20250517T090000
DTEND;TZID=Europe/Berlin:20250517T200000
DTSTAMP:20260426T014837
CREATED:20250707T081659Z
LAST-MODIFIED:20250707T094740Z
UID:10000731-1747472400-1747512000@beactive-frankfurt.de
SUMMARY:ABC Open 2025
DESCRIPTION:ABC Open 2025 \nAktivität: #BeActive Aktionstage & Events \nInklusiv: Inklusiv
URL:https://beactive-frankfurt.de/veranstaltung/abc-open-2025/
LOCATION:Carl-von-Weinberg-Schule\, Zur Waldau 21\, Frankfurt am Main\, Hessen\, 60529\, Deutschland
CATEGORIES:#BeActive Aktionstage & Events
ORGANIZER;CN="Active Badminton Frankfurt":MAILTO:abc-open@abc-frankfurt.de
END:VEVENT
END:VCALENDAR