BEGIN:VCALENDAR
VERSION:2.0
PRODID:-//BeActive FrankfurtRheinMain - ECPv6.3.7//NONSGML v1.0//EN
CALSCALE:GREGORIAN
METHOD:PUBLISH
X-ORIGINAL-URL:https://beactive-frankfurt.de
X-WR-CALDESC:Veranstaltungen für BeActive FrankfurtRheinMain
REFRESH-INTERVAL;VALUE=DURATION:PT1H
X-Robots-Tag:noindex
X-PUBLISHED-TTL:PT1H
BEGIN:VTIMEZONE
TZID:Europe/Berlin
BEGIN:DAYLIGHT
TZOFFSETFROM:+0100
TZOFFSETTO:+0200
TZNAME:CEST
DTSTART:20250330T010000
END:DAYLIGHT
BEGIN:STANDARD
TZOFFSETFROM:+0200
TZOFFSETTO:+0100
TZNAME:CET
DTSTART:20251026T010000
END:STANDARD
END:VTIMEZONE
BEGIN:VEVENT
DTSTART;TZID=Europe/Berlin:20250926T183000
DTEND;TZID=Europe/Berlin:20250926T200000
DTSTAMP:20260421T121135
CREATED:20250822T141017Z
LAST-MODIFIED:20250822T141019Z
UID:10001373-1758911400-1758916800@beactive-frankfurt.de
SUMMARY:Flag-Football-Training Jugend  - U13
DESCRIPTION:Alle Teams der Rockets sind Mixed-Mannschaften. Interessierte Mädchen und Jungs ab 10 Jahren\, die diese fantastische Sportart bei den Rockets kennenlernen möchten\, setzen sich bitte mit einem der Ansprechpartner in Verbindung. Du bist für ein Probetraining jederzeit herzlich willkommen!
URL:https://beactive-frankfurt.de/veranstaltung/flag-football-training-jugend-u13-3/
LOCATION:AFC Rhein-Main Rockets e.V.  – (American Football Club)\, In den Obstgärten 19\, Offenbach am Main\, 63075
ATTACH;FMTTYPE=image/png:https://beactive-frankfurt.de/wp-content/uploads/2025/08/MSRM-Angebote.png
ORGANIZER;CN="AFC Rhein-Main Rockets e.V.  - (American Football Club)":MAILTO:vorstand@rockets-football.de
END:VEVENT
BEGIN:VEVENT
DTSTART;TZID=Europe/Berlin:20250924T183000
DTEND;TZID=Europe/Berlin:20250924T200000
DTSTAMP:20260421T121135
CREATED:20250822T141010Z
LAST-MODIFIED:20250822T141013Z
UID:10001372-1758738600-1758744000@beactive-frankfurt.de
SUMMARY:Flag-Football-Training Jugend  - U13
DESCRIPTION:Alle Teams der Rockets sind Mixed-Mannschaften. Interessierte Mädchen und Jungs ab 10 Jahren\, die diese fantastische Sportart bei den Rockets kennenlernen möchten\, setzen sich bitte mit einem der Ansprechpartner in Verbindung. Du bist für ein Probetraining jederzeit herzlich willkommen!
URL:https://beactive-frankfurt.de/veranstaltung/flag-football-training-jugend-u13-2/
LOCATION:AFC Rhein-Main Rockets e.V.  – (American Football Club)\, In den Obstgärten 19\, Offenbach am Main\, 63075
ATTACH;FMTTYPE=image/png:https://beactive-frankfurt.de/wp-content/uploads/2025/08/MSRM-Angebote.png
ORGANIZER;CN="AFC Rhein-Main Rockets e.V.  - (American Football Club)":MAILTO:vorstand@rockets-football.de
END:VEVENT
BEGIN:VEVENT
DTSTART;TZID=Europe/Berlin:20250924T181500
DTEND;TZID=Europe/Berlin:20250924T200000
DTSTAMP:20260421T121135
CREATED:20250822T141004Z
LAST-MODIFIED:20250822T141006Z
UID:10001371-1758737700-1758744000@beactive-frankfurt.de
SUMMARY:Flag-Football-Training Jugend  - U13
DESCRIPTION:Alle Teams der Rockets sind Mixed-Mannschaften. Interessierte Mädchen und Jungs ab 10 Jahren\, die diese fantastische Sportart bei den Rockets kennenlernen möchten\, setzen sich bitte mit einem der Ansprechpartner in Verbindung. Du bist für ein Probetraining jederzeit herzlich willkommen!
URL:https://beactive-frankfurt.de/veranstaltung/flag-football-training-jugend-u13/
LOCATION:AFC Rhein-Main Rockets e.V.  – (American Football Club)\, In den Obstgärten 19\, Offenbach am Main\, 63075
ATTACH;FMTTYPE=image/png:https://beactive-frankfurt.de/wp-content/uploads/2025/08/MSRM-Angebote.png
ORGANIZER;CN="AFC Rhein-Main Rockets e.V.  - (American Football Club)":MAILTO:vorstand@rockets-football.de
END:VEVENT
END:VCALENDAR