BEGIN:VCALENDAR
VERSION:2.0
PRODID:-//BeActive FrankfurtRheinMain - ECPv6.3.7//NONSGML v1.0//EN
CALSCALE:GREGORIAN
METHOD:PUBLISH
X-WR-CALNAME:BeActive FrankfurtRheinMain
X-ORIGINAL-URL:https://beactive-frankfurt.de
X-WR-CALDESC:Veranstaltungen für BeActive FrankfurtRheinMain
REFRESH-INTERVAL;VALUE=DURATION:PT1H
X-Robots-Tag:noindex
X-PUBLISHED-TTL:PT1H
BEGIN:VTIMEZONE
TZID:Europe/Berlin
BEGIN:DAYLIGHT
TZOFFSETFROM:+0100
TZOFFSETTO:+0200
TZNAME:CEST
DTSTART:20250330T010000
END:DAYLIGHT
BEGIN:STANDARD
TZOFFSETFROM:+0200
TZOFFSETTO:+0100
TZNAME:CET
DTSTART:20251026T010000
END:STANDARD
END:VTIMEZONE
BEGIN:VEVENT
DTSTART;TZID=Europe/Berlin:20250501T160000
DTEND;TZID=Europe/Berlin:20250501T170000
DTSTAMP:20260426T001332
CREATED:20250707T090135Z
LAST-MODIFIED:20250717T155636Z
UID:10000753-1746115200-1746118800@beactive-frankfurt.de
SUMMARY:Free Calisthenics Workshops
DESCRIPTION:Calisthenics-Training für Kinder und Jugendliche\nRegelmäßiges\, offenes Calisthenics-Angebot für Kinder und Jugendliche. Calisthenics ist eine Form des Körpertrainings\, die mit dem eigenen Körpergewicht durchgeführt wird und sowohl Kraft als auch Beweglichkeit fördert. Das Outdoor-Angebot ist für die Teilnehmenden kostenlos und ist so ausgelegt\, dass Einsteiger*innen ohne Vorkenntnisse genau so mitmachen können wie Kids\, die bereits gut im Training stehen. Trainiert wird mit dem eigenen Körpergewicht unter Zuhilfenahme der Calisthenics-Anlage
URL:https://beactive-frankfurt.de/veranstaltung/free-calisthenics-workshops-2/
LOCATION:Calisthenics Park(Spielplatz Abi) Frankfurt-Fechenheim\, Kontanzer Straße / Bodensee Straße 1\, Frankfurt am Main\, Hessen\, 60386\, Deutschland
ATTACH;FMTTYPE=image/jpeg:https://beactive-frankfurt.de/wp-content/uploads/2024/08/Schulaktion_Calisthenics-scaled.jpg
END:VEVENT
BEGIN:VEVENT
DTSTART;TZID=Europe/Berlin:20250501T160000
DTEND;TZID=Europe/Berlin:20250501T170000
DTSTAMP:20260426T001332
CREATED:20250707T090126Z
LAST-MODIFIED:20250707T092010Z
UID:10000752-1746115200-1746118800@beactive-frankfurt.de
SUMMARY:Free Calisthenics Workshops
DESCRIPTION:Offenes Calisthenics-Angebot für Kinder und Jugendliche auf dem „Abi“-Spielplatz in der Konstanzer Straße in Frankfurt Fechenheim. Der Startschuss für ein regelmäßiges Angebot. Calisthenics ist eine Form des Körpertrainings\, die mit dem eigenen Körpergewicht durchgeführt wird und sowohl Kraft als auch Beweglichkeit fördert. Das Outdoor-Angebot ist für die Teilnehmenden kostenlos und ist so ausgelegt\, dass Einsteiger*innen ohne Vorkenntnisse genau so mitmachen können wie Kids\, die bereits gut im Training stehen. Trainiert wird mit dem eigenen Körpergewicht unter Zuhilfenahme der Calisthenics-Anlage\, die seit der Neugestaltung 2023/24 auf dem Spielplatz genutzt werden kann.
URL:https://beactive-frankfurt.de/veranstaltung/free-calisthenics-workshops/
LOCATION:Calisthenics Park(Spielplatz Abi) Frankfurt-Fechenheim\, Kontanzer Straße / Bodensee Straße 1\, Frankfurt am Main\, Hessen\, 60386\, Deutschland
CATEGORIES:#BeActive Outdoor & Natur
END:VEVENT
END:VCALENDAR