BEGIN:VCALENDAR
VERSION:2.0
PRODID:-//BeActive FrankfurtRheinMain - ECPv6.3.7//NONSGML v1.0//EN
CALSCALE:GREGORIAN
METHOD:PUBLISH
X-WR-CALNAME:BeActive FrankfurtRheinMain
X-ORIGINAL-URL:https://beactive-frankfurt.de
X-WR-CALDESC:Veranstaltungen für BeActive FrankfurtRheinMain
REFRESH-INTERVAL;VALUE=DURATION:PT1H
X-Robots-Tag:noindex
X-PUBLISHED-TTL:PT1H
BEGIN:VTIMEZONE
TZID:Europe/Berlin
BEGIN:DAYLIGHT
TZOFFSETFROM:+0100
TZOFFSETTO:+0200
TZNAME:CEST
DTSTART:20250330T010000
END:DAYLIGHT
BEGIN:STANDARD
TZOFFSETFROM:+0200
TZOFFSETTO:+0100
TZNAME:CET
DTSTART:20251026T010000
END:STANDARD
END:VTIMEZONE
BEGIN:VEVENT
DTSTART;TZID=Europe/Berlin:20250930T173000
DTEND;TZID=Europe/Berlin:20250930T190000
DTSTAMP:20260419T173947
CREATED:20250708T104755Z
LAST-MODIFIED:20250815T094516Z
UID:10000759-1759253400-1759258800@beactive-frankfurt.de
SUMMARY:Handball Schnuppern beim VfL Goldstein (weiblich 9-10)
DESCRIPTION:Teamgeist\, Tempo und Technik – Handball ist ein Sport mit Action\, Spielwitz und Power! Wenn Mädchen im Alter von 9-10 Jahren Spaß an Bewegung\, Ballsport und gemeinsamer Herausforderung haben\, sind sie hier genau richtig. Egal ob mit oder ohne Vorerfahrung: Kommt / Kommen Sie zum Schnuppern vorbei und erlebt / erleben Sie\, wie vielseitig und mitreißend Handball sein kann!
URL:https://beactive-frankfurt.de/veranstaltung/handball-schnuppern-beim-vfl-goldstein-weiblich-9-10/
LOCATION:Carl-von-Weinberg-Schule\, Zur Waldau 21\, Frankfurt\, Hessen\, 60529\, Deutschland
CATEGORIES:#BeActive Schnuppern,#BeActive Women
ATTACH;FMTTYPE=image/jpeg:https://beactive-frankfurt.de/wp-content/uploads/2025/07/Schnuppern_HandballVfL.jpg
END:VEVENT
BEGIN:VEVENT
DTSTART;TZID=Europe/Berlin:20250924T203000
DTEND;TZID=Europe/Berlin:20250924T223000
DTSTAMP:20260419T173947
CREATED:20250702T075040Z
LAST-MODIFIED:20250702T075040Z
UID:10000712-1758745800-1758753000@beactive-frankfurt.de
SUMMARY:Badminton Schnuppern beim VFL Goldstein
DESCRIPTION:Badminton ist für uns mehr als nur ein Hobby – es ist Bewegung\, Ehrgeiz und vor allem Spaß! Als buntgemischte\, fröhliche Truppe ab 16 Jahren genießen wir das gemeinsame Spiel\, fördern unsere Gesundheit und teilen die Freude an der Bewegung miteinander.
URL:https://beactive-frankfurt.de/veranstaltung/badminton-schnuppern-beim-vfl-goldstein-2/
LOCATION:Carl-von-Weinberg-Schule\, Zur Waldau 21\, Frankfurt\, Hessen\, 60529\, Deutschland
CATEGORIES:#BeActive Schnuppern
ATTACH;FMTTYPE=image/jpeg:https://beactive-frankfurt.de/wp-content/uploads/2025/07/Schnupper_VFLGOLDSTEIN_BADMINTON.jpg
END:VEVENT
END:VCALENDAR