BEGIN:VCALENDAR
VERSION:2.0
PRODID:-//BeActive FrankfurtRheinMain - ECPv6.3.7//NONSGML v1.0//EN
CALSCALE:GREGORIAN
METHOD:PUBLISH
X-ORIGINAL-URL:https://beactive-frankfurt.de
X-WR-CALDESC:Veranstaltungen für BeActive FrankfurtRheinMain
REFRESH-INTERVAL;VALUE=DURATION:PT1H
X-Robots-Tag:noindex
X-PUBLISHED-TTL:PT1H
BEGIN:VTIMEZONE
TZID:Europe/Berlin
BEGIN:DAYLIGHT
TZOFFSETFROM:+0100
TZOFFSETTO:+0200
TZNAME:CEST
DTSTART:20250330T010000
END:DAYLIGHT
BEGIN:STANDARD
TZOFFSETFROM:+0200
TZOFFSETTO:+0100
TZNAME:CET
DTSTART:20251026T010000
END:STANDARD
END:VTIMEZONE
BEGIN:VEVENT
DTSTART;TZID=Europe/Berlin:20250923T070000
DTEND;TZID=Europe/Berlin:20250930T220000
DTSTAMP:20260424T152620
CREATED:20250818T133655Z
LAST-MODIFIED:20250818T134050Z
UID:10000828-1758610800-1759269600@beactive-frankfurt.de
SUMMARY:United let's move - Werde Teil der größten deutschen Fitnessbewegung!
DESCRIPTION:Werde Teil der größten deutschen Fitnessbewegung! Trainiere kostenlos* vom 23. bis 30.09. in über 1.500 Studios bundesweit. \nDie „Europäische Woche des Sports“ ist eine Kampagne der Europäischen Kommission\, um Menschen für einen aktiven Lebensstil zu begeistern. Sie findet jedes Jahr vom 23. bis 30. September unter dem Motto #BeActive statt. \nEuropaweit nehmen 40 Länder daran teil. In Deutschland wird die Initiative vom Arbeitgeberverband deutscher Fitness- und Gesundheits-Anlagen (DSSV) koordiniert und von Vereinen\, Verbänden\, Unternehmen\, Kommunen\, Schulen sowie Fitnessstudios unterstützt. \nMEHR INFOS unter www.unitedletsmove.de/  \n  \nEin Zusammenschluss von Fitnessstudios\, die ein gemeinsames Ziel verfolgen: mehr Menschen für Fitness begeistern. \n\n\n\n           \n            
URL:https://beactive-frankfurt.de/veranstaltung/united-lets-move-werde-teil-der-groessten-deutschen-fitnessbewegung/
LOCATION:Frankfurt\, Deutschland
CATEGORIES:#BeActive Aktionstage & Events,#BeActive Fitnessstudios & Communities,#BeActive Schnuppern,#BeActive Sonstiges
ATTACH;FMTTYPE=image/jpeg:https://beactive-frankfurt.de/wp-content/uploads/2025/08/united-lets-move.jpg
END:VEVENT
END:VCALENDAR