BEGIN:VCALENDAR
VERSION:2.0
PRODID:-//BeActive FrankfurtRheinMain - ECPv6.3.7//NONSGML v1.0//EN
CALSCALE:GREGORIAN
METHOD:PUBLISH
X-ORIGINAL-URL:https://beactive-frankfurt.de
X-WR-CALDESC:Veranstaltungen für BeActive FrankfurtRheinMain
REFRESH-INTERVAL;VALUE=DURATION:PT1H
X-Robots-Tag:noindex
X-PUBLISHED-TTL:PT1H
BEGIN:VTIMEZONE
TZID:Europe/Berlin
BEGIN:DAYLIGHT
TZOFFSETFROM:+0100
TZOFFSETTO:+0200
TZNAME:CEST
DTSTART:20250330T010000
END:DAYLIGHT
BEGIN:STANDARD
TZOFFSETFROM:+0200
TZOFFSETTO:+0100
TZNAME:CET
DTSTART:20251026T010000
END:STANDARD
END:VTIMEZONE
BEGIN:VEVENT
DTSTART;TZID=Europe/Berlin:20250924T160000
DTEND;TZID=Europe/Berlin:20250924T213000
DTSTAMP:20260423T192503
CREATED:20250822T142154Z
LAST-MODIFIED:20250822T142156Z
UID:10001466-1758729600-1758749400@beactive-frankfurt.de
SUMMARY:Schach
DESCRIPTION:Die Schachabteilung ist die erfolgreichste Abteilung in unserem Verein. Wir haben sehr viele talentierte Spieler\, die bereits die Deutsche Meisterschaft\, Hessenmeisterschaft und viele andere Wettbewerbe sehr erfolgreich gestaltet haben. Zusätzlich nahm Makkabi Frankfurt auch an der Schach-Weltmeisterschaft in Dubai teil. Die Schachabteilung von Makkabi versteht sich somit als Zusammentreffen der Generationen. Bei uns sind sämtliche Altersgruppen vertreten und zusammen vereint. Die Förderung von Kindern und Jugendlichen steht bei uns im Vordergrund und spiegelt sich in der Zusammensetzung der aktiven Mannschaften wider. Der Kurs gliedert sich in unterschiedliche Trainingszeiten. Genauere Informationen sind unter dem Punkt „Termine“ ersichtlich. Bitte beachten: Die Schachabteilung ist nur für fortgeschrittene Spieler geeignet\, nicht für Anfänger!
URL:https://beactive-frankfurt.de/veranstaltung/schach/
LOCATION:Jugendzentrum in der Jüdischen Gemeinde\, Savignystr. 66 (UG)\, Frankfurt am Main\, 60325
ATTACH;FMTTYPE=image/png:https://beactive-frankfurt.de/wp-content/uploads/2025/08/MSRM-Angebote.png
ORGANIZER;CN="TuS Makkabi Frankfurt e.V.":MAILTO:socialme@makkabi-frankfurt.de
END:VEVENT
END:VCALENDAR