BEGIN:VCALENDAR
VERSION:2.0
PRODID:-//BeActive FrankfurtRheinMain - ECPv6.3.7//NONSGML v1.0//EN
CALSCALE:GREGORIAN
METHOD:PUBLISH
X-ORIGINAL-URL:https://beactive-frankfurt.de
X-WR-CALDESC:Veranstaltungen für BeActive FrankfurtRheinMain
REFRESH-INTERVAL;VALUE=DURATION:PT1H
X-Robots-Tag:noindex
X-PUBLISHED-TTL:PT1H
BEGIN:VTIMEZONE
TZID:Europe/Berlin
BEGIN:DAYLIGHT
TZOFFSETFROM:+0100
TZOFFSETTO:+0200
TZNAME:CEST
DTSTART:20250330T010000
END:DAYLIGHT
BEGIN:STANDARD
TZOFFSETFROM:+0200
TZOFFSETTO:+0100
TZNAME:CET
DTSTART:20251026T010000
END:STANDARD
END:VTIMEZONE
BEGIN:VEVENT
DTSTART;TZID=Europe/Berlin:20250930T160000
DTEND;TZID=Europe/Berlin:20250930T170000
DTSTAMP:20260421T164601
CREATED:20250822T130528Z
LAST-MODIFIED:20250822T130530Z
UID:10000926-1759248000-1759251600@beactive-frankfurt.de
SUMMARY:Pre Ballett für Kinder von 5 bis 7 Jahre
DESCRIPTION:Im Kinderballett werden vor allem die Freude und der Spaß am Tanz geweckt. Ballett schult das Körpergefühl und die Koordina-tion des Kindes. Es stärkt die Muskulatur und fördert die Sinne. Ballett trainiert aber nicht nur den Körper\, auch das Rhythmusgefühl und die Musikalität wird geschult. In diesem Angebot werden die erlernten Fähigkeiten aus dem rhythmischen Ballett vertieft. Weitere Übungen werden erlernt um die Fähigkeit zu verbessen den Körper zu kontrollieren
URL:https://beactive-frankfurt.de/veranstaltung/pre-ballett-fuer-kinder-von-5-bis-7-jahre-2/
LOCATION:Mehrzwecksaal/ 1. Stock\, Georg-Treser-Straße 17\, Frankfurt am Main\, 60599
ATTACH;FMTTYPE=image/png:https://beactive-frankfurt.de/wp-content/uploads/2025/08/MSRM-Angebote.png
ORGANIZER;CN="TSG Oberrad - Turn- und Sportgemeinde Frankfurt-Oberrad e.V. 1872":MAILTO:info@tsg-oberrad.de
END:VEVENT
BEGIN:VEVENT
DTSTART;TZID=Europe/Berlin:20250924T160000
DTEND;TZID=Europe/Berlin:20250924T170000
DTSTAMP:20260421T164601
CREATED:20250822T130523Z
LAST-MODIFIED:20250822T130524Z
UID:10000925-1758729600-1758733200@beactive-frankfurt.de
SUMMARY:Pre Ballett für Kinder von 5 bis 7 Jahre
DESCRIPTION:Im Kinderballett werden vor allem die Freude und der Spaß am Tanz geweckt. Ballett schult das Körpergefühl und die Koordina-tion des Kindes. Es stärkt die Muskulatur und fördert die Sinne. Ballett trainiert aber nicht nur den Körper\, auch das Rhythmusgefühl und die Musikalität wird geschult. In diesem Angebot werden die erlernten Fähigkeiten aus dem rhythmischen Ballett vertieft. Weitere Übungen werden erlernt um die Fähigkeit zu verbessen den Körper zu kontrollieren
URL:https://beactive-frankfurt.de/veranstaltung/pre-ballett-fuer-kinder-von-5-bis-7-jahre/
LOCATION:Mehrzwecksaal/ 1. Stock\, Georg-Treser-Straße 17\, Frankfurt am Main\, 60599
ATTACH;FMTTYPE=image/png:https://beactive-frankfurt.de/wp-content/uploads/2025/08/MSRM-Angebote.png
ORGANIZER;CN="TSG Oberrad - Turn- und Sportgemeinde Frankfurt-Oberrad e.V. 1872":MAILTO:info@tsg-oberrad.de
END:VEVENT
END:VCALENDAR