BEGIN:VCALENDAR
VERSION:2.0
PRODID:-//BeActive FrankfurtRheinMain - ECPv6.3.7//NONSGML v1.0//EN
CALSCALE:GREGORIAN
METHOD:PUBLISH
X-ORIGINAL-URL:https://beactive-frankfurt.de
X-WR-CALDESC:Veranstaltungen für BeActive FrankfurtRheinMain
REFRESH-INTERVAL;VALUE=DURATION:PT1H
X-Robots-Tag:noindex
X-PUBLISHED-TTL:PT1H
BEGIN:VTIMEZONE
TZID:Europe/Berlin
BEGIN:DAYLIGHT
TZOFFSETFROM:+0100
TZOFFSETTO:+0200
TZNAME:CEST
DTSTART:20250330T010000
END:DAYLIGHT
BEGIN:STANDARD
TZOFFSETFROM:+0200
TZOFFSETTO:+0100
TZNAME:CET
DTSTART:20251026T010000
END:STANDARD
END:VTIMEZONE
BEGIN:VEVENT
DTSTART;TZID=Europe/Berlin:20250930T193000
DTEND;TZID=Europe/Berlin:20250930T203000
DTSTAMP:20260421T164556
CREATED:20250822T140845Z
LAST-MODIFIED:20250829T090313Z
UID:10001362-1759260600-1759264200@beactive-frankfurt.de
SUMMARY:Zumba
DESCRIPTION:ZUMBA ist von lateinamerikanischer Musik inspiriert. Zumba ist für alle Menschen geeignet\, die Stress und überflüssige Pfunde ohne großen Aufwand einfach wegtanzen möchten. Mit Spaß und großartiger Partystimmung durch den heißen Musik-Mix aus Salsa\, Merengue\, Calypso oder Reggaeton\, wird der Körper gestrafft und gleichzeitig die Kondition verbessert. Das Zumba-Progamm ist ein effektives und spannendes Fitness-Workout für alle – geeignet auch für diejenigen\, die nicht tanzen können.
URL:https://beactive-frankfurt.de/veranstaltung/zumba-21/
LOCATION:Saalbau Nidda\, TSV-Gymnastikhalle\, Harheimer Weg 18\, Frankfurt am Main\, 60437
CATEGORIES:#BeActive Schnuppern,#BeActive Women
ATTACH;FMTTYPE=image/png:https://beactive-frankfurt.de/wp-content/uploads/2025/08/MSRM-Angebote.png
ORGANIZER;CN="TSV 1875 Bonames e.V.":MAILTO:tsv@tsvb.de
END:VEVENT
BEGIN:VEVENT
DTSTART;TZID=Europe/Berlin:20250930T170000
DTEND;TZID=Europe/Berlin:20250930T180000
DTSTAMP:20260421T164556
CREATED:20250822T140852Z
LAST-MODIFIED:20250822T140854Z
UID:10001363-1759251600-1759255200@beactive-frankfurt.de
SUMMARY:Zumba
DESCRIPTION:ZUMBA ist von lateinamerikanischer Musik inspiriert. Zumba ist für alle Menschen geeignet\, die Stress und überflüssige Pfunde ohne großen Aufwand einfach wegtanzen möchten. Mit Spaß und großartiger Partystimmung durch den heißen Musik-Mix aus Salsa\, Merengue\, Calypso oder Reggaeton\, wird der Körper gestrafft und gleichzeitig die Kondition verbessert. Das Zumba-Progamm ist ein effektives und spannendes Fitness-Workout für alle – geeignet auch für diejenigen\, die nicht tanzen können.
URL:https://beactive-frankfurt.de/veranstaltung/zumba-22/
LOCATION:Saalbau Nidda\, TSV-Gymnastikhalle\, Harheimer Weg 18\, Frankfurt am Main\, 60437
ATTACH;FMTTYPE=image/png:https://beactive-frankfurt.de/wp-content/uploads/2025/08/MSRM-Angebote.png
ORGANIZER;CN="TSV 1875 Bonames e.V.":MAILTO:tsv@tsvb.de
END:VEVENT
BEGIN:VEVENT
DTSTART;TZID=Europe/Berlin:20250930T170000
DTEND;TZID=Europe/Berlin:20250930T180000
DTSTAMP:20260421T164556
CREATED:20250822T140821Z
LAST-MODIFIED:20250822T140823Z
UID:10001359-1759251600-1759255200@beactive-frankfurt.de
SUMMARY:Zumba
DESCRIPTION:ZUMBA ist von lateinamerikanischer Musik inspiriert. Zumba ist für alle Menschen geeignet\, die Stress und überflüssige Pfunde ohne großen Aufwand einfach wegtanzen möchten. Mit Spaß und großartiger Partystimmung durch den heißen Musik-Mix aus Salsa\, Merengue\, Calypso oder Reggaeton\, wird der Körper gestrafft und gleichzeitig die Kondition verbessert. Das Zumba-Progamm ist ein effektives und spannendes Fitness-Workout für alle – geeignet auch für diejenigen\, die nicht tanzen können.
URL:https://beactive-frankfurt.de/veranstaltung/zumba-18/
LOCATION:Saalbau Nidda\, TSV-Gymnastikhalle\, Harheimer Weg 18\, Frankfurt am Main\, 60437
ATTACH;FMTTYPE=image/png:https://beactive-frankfurt.de/wp-content/uploads/2025/08/MSRM-Angebote.png
ORGANIZER;CN="TSV 1875 Bonames e.V.":MAILTO:tsv@tsvb.de
END:VEVENT
BEGIN:VEVENT
DTSTART;TZID=Europe/Berlin:20250930T170000
DTEND;TZID=Europe/Berlin:20250930T180000
DTSTAMP:20260421T164556
CREATED:20250822T133900Z
LAST-MODIFIED:20250822T133902Z
UID:10001141-1759251600-1759255200@beactive-frankfurt.de
SUMMARY:Zumba
DESCRIPTION:ZUMBA ist von lateinamerikanischer Musik inspiriert. Zumba ist für alle Menschen geeignet\, die Stress und überflüssige Pfunde ohne großen Aufwand einfach wegtanzen möchten. Mit Spaß und großartiger Partystimmung durch den heißen Musik-Mix aus Salsa\, Merengue\, Calypso oder Reggaeton\, wird der Körper gestrafft und gleichzeitig die Kondition verbessert. Das Zumba-Progamm ist ein effektives und spannendes Fitness-Workout für alle – geeignet auch für diejenigen\, die nicht tanzen können.
URL:https://beactive-frankfurt.de/veranstaltung/zumba-9/
LOCATION:Saalbau Nidda\, TSV-Gymnastikhalle\, Harheimer Weg 18\, Frankfurt am Main\, 60437
ATTACH;FMTTYPE=image/png:https://beactive-frankfurt.de/wp-content/uploads/2025/08/MSRM-Angebote.png
ORGANIZER;CN="TSV 1875 Bonames e.V.":MAILTO:tsv@tsvb.de
END:VEVENT
BEGIN:VEVENT
DTSTART;TZID=Europe/Berlin:20250930T093000
DTEND;TZID=Europe/Berlin:20250930T103000
DTSTAMP:20260421T164556
CREATED:20250822T140922Z
LAST-MODIFIED:20250822T140925Z
UID:10001365-1759224600-1759228200@beactive-frankfurt.de
SUMMARY:Zumba
DESCRIPTION:ZUMBA ist von lateinamerikanischer Musik inspiriert. Zumba ist für alle Menschen geeignet\, die Stress und überflüssige Pfunde ohne großen Aufwand einfach wegtanzen möchten. Mit Spaß und großartiger Partystimmung durch den heißen Musik-Mix aus Salsa\, Merengue\, Calypso oder Reggaeton\, wird der Körper gestrafft und gleichzeitig die Kondition verbessert. Das Zumba-Progamm ist ein effektives und spannendes Fitness-Workout für alle – geeignet auch für diejenigen\, die nicht tanzen können.
URL:https://beactive-frankfurt.de/veranstaltung/zumba-24/
LOCATION:Saalbau Nidda\, TSV-Gymnastikhalle\, Harheimer Weg 18\, Frankfurt am Main\, 60437
ATTACH;FMTTYPE=image/png:https://beactive-frankfurt.de/wp-content/uploads/2025/08/MSRM-Angebote.png
ORGANIZER;CN="TSV 1875 Bonames e.V.":MAILTO:tsv@tsvb.de
END:VEVENT
BEGIN:VEVENT
DTSTART;TZID=Europe/Berlin:20250929T190000
DTEND;TZID=Europe/Berlin:20250929T200000
DTSTAMP:20260421T164556
CREATED:20250822T140727Z
LAST-MODIFIED:20250822T140729Z
UID:10001352-1759172400-1759176000@beactive-frankfurt.de
SUMMARY:Zumba
DESCRIPTION:ZUMBA ist von lateinamerikanischer Musik inspiriert. Zumba ist für alle Menschen geeignet\, die Stress und überflüssige Pfunde ohne großen Aufwand einfach wegtanzen möchten. Mit Spaß und großartiger Partystimmung durch den heißen Musik-Mix aus Salsa\, Merengue\, Calypso oder Reggaeton\, wird der Körper gestrafft und gleichzeitig die Kondition verbessert. Das Zumba-Progamm ist ein effektives und spannendes Fitness-Workout für alle – geeignet auch für diejenigen\, die nicht tanzen können.
URL:https://beactive-frankfurt.de/veranstaltung/zumba-11/
LOCATION:Saalbau Nidda\, TSV-Gymnastikhalle\, Harheimer Weg 18\, Frankfurt am Main\, 60437
ATTACH;FMTTYPE=image/png:https://beactive-frankfurt.de/wp-content/uploads/2025/08/MSRM-Angebote.png
ORGANIZER;CN="TSV 1875 Bonames e.V.":MAILTO:tsv@tsvb.de
END:VEVENT
BEGIN:VEVENT
DTSTART;TZID=Europe/Berlin:20250929T190000
DTEND;TZID=Europe/Berlin:20250929T200000
DTSTAMP:20260421T164556
CREATED:20250822T133809Z
LAST-MODIFIED:20250822T133811Z
UID:10001134-1759172400-1759176000@beactive-frankfurt.de
SUMMARY:Zumba
DESCRIPTION:ZUMBA ist von lateinamerikanischer Musik inspiriert. Zumba ist für alle Menschen geeignet\, die Stress und überflüssige Pfunde ohne großen Aufwand einfach wegtanzen möchten. Mit Spaß und großartiger Partystimmung durch den heißen Musik-Mix aus Salsa\, Merengue\, Calypso oder Reggaeton\, wird der Körper gestrafft und gleichzeitig die Kondition verbessert. Das Zumba-Progamm ist ein effektives und spannendes Fitness-Workout für alle – geeignet auch für diejenigen\, die nicht tanzen können.
URL:https://beactive-frankfurt.de/veranstaltung/zumba/
LOCATION:Saalbau Nidda\, TSV-Gymnastikhalle\, Harheimer Weg 18\, Frankfurt am Main\, 60437
ATTACH;FMTTYPE=image/png:https://beactive-frankfurt.de/wp-content/uploads/2025/08/MSRM-Angebote.png
ORGANIZER;CN="TSV 1875 Bonames e.V.":MAILTO:tsv@tsvb.de
END:VEVENT
BEGIN:VEVENT
DTSTART;TZID=Europe/Berlin:20250929T100000
DTEND;TZID=Europe/Berlin:20250929T110000
DTSTAMP:20260421T164556
CREATED:20250822T140837Z
LAST-MODIFIED:20250822T140839Z
UID:10001361-1759140000-1759143600@beactive-frankfurt.de
SUMMARY:Zumba
DESCRIPTION:ZUMBA ist von lateinamerikanischer Musik inspiriert. Zumba ist für alle Menschen geeignet\, die Stress und überflüssige Pfunde ohne großen Aufwand einfach wegtanzen möchten. Mit Spaß und großartiger Partystimmung durch den heißen Musik-Mix aus Salsa\, Merengue\, Calypso oder Reggaeton\, wird der Körper gestrafft und gleichzeitig die Kondition verbessert. Das Zumba-Progamm ist ein effektives und spannendes Fitness-Workout für alle – geeignet auch für diejenigen\, die nicht tanzen können.
URL:https://beactive-frankfurt.de/veranstaltung/zumba-20/
LOCATION:Saalbau Nidda\, TSV-Gymnastikhalle\, Harheimer Weg 18\, Frankfurt am Main\, 60437
ATTACH;FMTTYPE=image/png:https://beactive-frankfurt.de/wp-content/uploads/2025/08/MSRM-Angebote.png
ORGANIZER;CN="TSV 1875 Bonames e.V.":MAILTO:tsv@tsvb.de
END:VEVENT
BEGIN:VEVENT
DTSTART;TZID=Europe/Berlin:20250929T100000
DTEND;TZID=Europe/Berlin:20250929T110000
DTSTAMP:20260421T164556
CREATED:20250822T140750Z
LAST-MODIFIED:20250822T140753Z
UID:10001355-1759140000-1759143600@beactive-frankfurt.de
SUMMARY:Zumba
DESCRIPTION:ZUMBA ist von lateinamerikanischer Musik inspiriert. Zumba ist für alle Menschen geeignet\, die Stress und überflüssige Pfunde ohne großen Aufwand einfach wegtanzen möchten. Mit Spaß und großartiger Partystimmung durch den heißen Musik-Mix aus Salsa\, Merengue\, Calypso oder Reggaeton\, wird der Körper gestrafft und gleichzeitig die Kondition verbessert. Das Zumba-Progamm ist ein effektives und spannendes Fitness-Workout für alle – geeignet auch für diejenigen\, die nicht tanzen können.
URL:https://beactive-frankfurt.de/veranstaltung/zumba-14/
LOCATION:Saalbau Nidda\, TSV-Gymnastikhalle\, Harheimer Weg 18\, Frankfurt am Main\, 60437
ATTACH;FMTTYPE=image/png:https://beactive-frankfurt.de/wp-content/uploads/2025/08/MSRM-Angebote.png
ORGANIZER;CN="TSV 1875 Bonames e.V.":MAILTO:tsv@tsvb.de
END:VEVENT
BEGIN:VEVENT
DTSTART;TZID=Europe/Berlin:20250929T100000
DTEND;TZID=Europe/Berlin:20250929T110000
DTSTAMP:20260421T164556
CREATED:20250822T133830Z
LAST-MODIFIED:20250822T133832Z
UID:10001137-1759140000-1759143600@beactive-frankfurt.de
SUMMARY:Zumba
DESCRIPTION:ZUMBA ist von lateinamerikanischer Musik inspiriert. Zumba ist für alle Menschen geeignet\, die Stress und überflüssige Pfunde ohne großen Aufwand einfach wegtanzen möchten. Mit Spaß und großartiger Partystimmung durch den heißen Musik-Mix aus Salsa\, Merengue\, Calypso oder Reggaeton\, wird der Körper gestrafft und gleichzeitig die Kondition verbessert. Das Zumba-Progamm ist ein effektives und spannendes Fitness-Workout für alle – geeignet auch für diejenigen\, die nicht tanzen können.
URL:https://beactive-frankfurt.de/veranstaltung/zumba-4/
LOCATION:Saalbau Nidda\, TSV-Gymnastikhalle\, Harheimer Weg 18\, Frankfurt am Main\, 60437
ATTACH;FMTTYPE=image/png:https://beactive-frankfurt.de/wp-content/uploads/2025/08/MSRM-Angebote.png
ORGANIZER;CN="TSV 1875 Bonames e.V.":MAILTO:tsv@tsvb.de
END:VEVENT
BEGIN:VEVENT
DTSTART;TZID=Europe/Berlin:20250926T190000
DTEND;TZID=Europe/Berlin:20250926T200000
DTSTAMP:20260421T164556
CREATED:20250822T140829Z
LAST-MODIFIED:20250822T140831Z
UID:10001360-1758913200-1758916800@beactive-frankfurt.de
SUMMARY:Zumba
DESCRIPTION:ZUMBA ist von lateinamerikanischer Musik inspiriert. Zumba ist für alle Menschen geeignet\, die Stress und überflüssige Pfunde ohne großen Aufwand einfach wegtanzen möchten. Mit Spaß und großartiger Partystimmung durch den heißen Musik-Mix aus Salsa\, Merengue\, Calypso oder Reggaeton\, wird der Körper gestrafft und gleichzeitig die Kondition verbessert. Das Zumba-Progamm ist ein effektives und spannendes Fitness-Workout für alle – geeignet auch für diejenigen\, die nicht tanzen können.
URL:https://beactive-frankfurt.de/veranstaltung/zumba-19/
LOCATION:Saalbau Nidda\, TSV-Gymnastikhalle\, Harheimer Weg 18\, Frankfurt am Main\, 60437
ATTACH;FMTTYPE=image/png:https://beactive-frankfurt.de/wp-content/uploads/2025/08/MSRM-Angebote.png
ORGANIZER;CN="TSV 1875 Bonames e.V.":MAILTO:tsv@tsvb.de
END:VEVENT
BEGIN:VEVENT
DTSTART;TZID=Europe/Berlin:20250926T190000
DTEND;TZID=Europe/Berlin:20250926T200000
DTSTAMP:20260421T164556
CREATED:20250822T133930Z
LAST-MODIFIED:20250822T133932Z
UID:10001142-1758913200-1758916800@beactive-frankfurt.de
SUMMARY:Zumba
DESCRIPTION:ZUMBA ist von lateinamerikanischer Musik inspiriert. Zumba ist für alle Menschen geeignet\, die Stress und überflüssige Pfunde ohne großen Aufwand einfach wegtanzen möchten. Mit Spaß und großartiger Partystimmung durch den heißen Musik-Mix aus Salsa\, Merengue\, Calypso oder Reggaeton\, wird der Körper gestrafft und gleichzeitig die Kondition verbessert. Das Zumba-Progamm ist ein effektives und spannendes Fitness-Workout für alle – geeignet auch für diejenigen\, die nicht tanzen können.
URL:https://beactive-frankfurt.de/veranstaltung/zumba-10/
LOCATION:Saalbau Nidda\, TSV-Gymnastikhalle\, Harheimer Weg 18\, Frankfurt am Main\, 60437
ATTACH;FMTTYPE=image/png:https://beactive-frankfurt.de/wp-content/uploads/2025/08/MSRM-Angebote.png
ORGANIZER;CN="TSV 1875 Bonames e.V.":MAILTO:tsv@tsvb.de
END:VEVENT
BEGIN:VEVENT
DTSTART;TZID=Europe/Berlin:20250926T100000
DTEND;TZID=Europe/Berlin:20250926T110000
DTSTAMP:20260421T164556
CREATED:20250822T140758Z
LAST-MODIFIED:20250822T140801Z
UID:10001356-1758880800-1758884400@beactive-frankfurt.de
SUMMARY:Zumba
DESCRIPTION:ZUMBA ist von lateinamerikanischer Musik inspiriert. Zumba ist für alle Menschen geeignet\, die Stress und überflüssige Pfunde ohne großen Aufwand einfach wegtanzen möchten. Mit Spaß und großartiger Partystimmung durch den heißen Musik-Mix aus Salsa\, Merengue\, Calypso oder Reggaeton\, wird der Körper gestrafft und gleichzeitig die Kondition verbessert. Das Zumba-Progamm ist ein effektives und spannendes Fitness-Workout für alle – geeignet auch für diejenigen\, die nicht tanzen können.
URL:https://beactive-frankfurt.de/veranstaltung/zumba-15/
LOCATION:Saalbau Nidda\, TSV-Gymnastikhalle\, Harheimer Weg 18\, Frankfurt am Main\, 60437
ATTACH;FMTTYPE=image/png:https://beactive-frankfurt.de/wp-content/uploads/2025/08/MSRM-Angebote.png
ORGANIZER;CN="TSV 1875 Bonames e.V.":MAILTO:tsv@tsvb.de
END:VEVENT
BEGIN:VEVENT
DTSTART;TZID=Europe/Berlin:20250926T100000
DTEND;TZID=Europe/Berlin:20250926T110000
DTSTAMP:20260421T164556
CREATED:20250822T133838Z
LAST-MODIFIED:20250822T133840Z
UID:10001138-1758880800-1758884400@beactive-frankfurt.de
SUMMARY:Zumba
DESCRIPTION:ZUMBA ist von lateinamerikanischer Musik inspiriert. Zumba ist für alle Menschen geeignet\, die Stress und überflüssige Pfunde ohne großen Aufwand einfach wegtanzen möchten. Mit Spaß und großartiger Partystimmung durch den heißen Musik-Mix aus Salsa\, Merengue\, Calypso oder Reggaeton\, wird der Körper gestrafft und gleichzeitig die Kondition verbessert. Das Zumba-Progamm ist ein effektives und spannendes Fitness-Workout für alle – geeignet auch für diejenigen\, die nicht tanzen können.
URL:https://beactive-frankfurt.de/veranstaltung/zumba-5/
LOCATION:Saalbau Nidda\, TSV-Gymnastikhalle\, Harheimer Weg 18\, Frankfurt am Main\, 60437
ATTACH;FMTTYPE=image/png:https://beactive-frankfurt.de/wp-content/uploads/2025/08/MSRM-Angebote.png
ORGANIZER;CN="TSV 1875 Bonames e.V.":MAILTO:tsv@tsvb.de
END:VEVENT
BEGIN:VEVENT
DTSTART;TZID=Europe/Berlin:20250926T090000
DTEND;TZID=Europe/Berlin:20250926T100000
DTSTAMP:20260421T164556
CREATED:20250822T140742Z
LAST-MODIFIED:20250822T140745Z
UID:10001354-1758877200-1758880800@beactive-frankfurt.de
SUMMARY:Zumba
DESCRIPTION:ZUMBA ist von lateinamerikanischer Musik inspiriert. Zumba ist für alle Menschen geeignet\, die Stress und überflüssige Pfunde ohne großen Aufwand einfach wegtanzen möchten. Mit Spaß und großartiger Partystimmung durch den heißen Musik-Mix aus Salsa\, Merengue\, Calypso oder Reggaeton\, wird der Körper gestrafft und gleichzeitig die Kondition verbessert. Das Zumba-Progamm ist ein effektives und spannendes Fitness-Workout für alle – geeignet auch für diejenigen\, die nicht tanzen können.
URL:https://beactive-frankfurt.de/veranstaltung/zumba-13/
LOCATION:Saalbau Nidda\, TSV-Gymnastikhalle\, Harheimer Weg 18\, Frankfurt am Main\, 60437
ATTACH;FMTTYPE=image/png:https://beactive-frankfurt.de/wp-content/uploads/2025/08/MSRM-Angebote.png
ORGANIZER;CN="TSV 1875 Bonames e.V.":MAILTO:tsv@tsvb.de
END:VEVENT
BEGIN:VEVENT
DTSTART;TZID=Europe/Berlin:20250926T090000
DTEND;TZID=Europe/Berlin:20250926T100000
DTSTAMP:20260421T164556
CREATED:20250822T133823Z
LAST-MODIFIED:20250822T133825Z
UID:10001136-1758877200-1758880800@beactive-frankfurt.de
SUMMARY:Zumba
DESCRIPTION:ZUMBA ist von lateinamerikanischer Musik inspiriert. Zumba ist für alle Menschen geeignet\, die Stress und überflüssige Pfunde ohne großen Aufwand einfach wegtanzen möchten. Mit Spaß und großartiger Partystimmung durch den heißen Musik-Mix aus Salsa\, Merengue\, Calypso oder Reggaeton\, wird der Körper gestrafft und gleichzeitig die Kondition verbessert. Das Zumba-Progamm ist ein effektives und spannendes Fitness-Workout für alle – geeignet auch für diejenigen\, die nicht tanzen können.
URL:https://beactive-frankfurt.de/veranstaltung/zumba-3/
LOCATION:Saalbau Nidda\, TSV-Gymnastikhalle\, Harheimer Weg 18\, Frankfurt am Main\, 60437
ATTACH;FMTTYPE=image/png:https://beactive-frankfurt.de/wp-content/uploads/2025/08/MSRM-Angebote.png
ORGANIZER;CN="TSV 1875 Bonames e.V.":MAILTO:tsv@tsvb.de
END:VEVENT
BEGIN:VEVENT
DTSTART;TZID=Europe/Berlin:20250925T180000
DTEND;TZID=Europe/Berlin:20250925T190000
DTSTAMP:20260421T164556
CREATED:20250822T140915Z
LAST-MODIFIED:20250822T140917Z
UID:10001364-1758823200-1758826800@beactive-frankfurt.de
SUMMARY:Zumba
DESCRIPTION:ZUMBA ist von lateinamerikanischer Musik inspiriert. Zumba ist für alle Menschen geeignet\, die Stress und überflüssige Pfunde ohne großen Aufwand einfach wegtanzen möchten. Mit Spaß und großartiger Partystimmung durch den heißen Musik-Mix aus Salsa\, Merengue\, Calypso oder Reggaeton\, wird der Körper gestrafft und gleichzeitig die Kondition verbessert. Das Zumba-Progamm ist ein effektives und spannendes Fitness-Workout für alle – geeignet auch für diejenigen\, die nicht tanzen können.
URL:https://beactive-frankfurt.de/veranstaltung/zumba-23/
LOCATION:Saalbau Nidda\, TSV-Gymnastikhalle\, Harheimer Weg 18\, Frankfurt am Main\, 60437
ATTACH;FMTTYPE=image/png:https://beactive-frankfurt.de/wp-content/uploads/2025/08/MSRM-Angebote.png
ORGANIZER;CN="TSV 1875 Bonames e.V.":MAILTO:tsv@tsvb.de
END:VEVENT
BEGIN:VEVENT
DTSTART;TZID=Europe/Berlin:20250925T180000
DTEND;TZID=Europe/Berlin:20250925T190000
DTSTAMP:20260421T164556
CREATED:20250822T133845Z
LAST-MODIFIED:20250822T133848Z
UID:10001139-1758823200-1758826800@beactive-frankfurt.de
SUMMARY:Zumba
DESCRIPTION:ZUMBA ist von lateinamerikanischer Musik inspiriert. Zumba ist für alle Menschen geeignet\, die Stress und überflüssige Pfunde ohne großen Aufwand einfach wegtanzen möchten. Mit Spaß und großartiger Partystimmung durch den heißen Musik-Mix aus Salsa\, Merengue\, Calypso oder Reggaeton\, wird der Körper gestrafft und gleichzeitig die Kondition verbessert. Das Zumba-Progamm ist ein effektives und spannendes Fitness-Workout für alle – geeignet auch für diejenigen\, die nicht tanzen können.
URL:https://beactive-frankfurt.de/veranstaltung/zumba-6/
LOCATION:Saalbau Nidda\, TSV-Gymnastikhalle\, Harheimer Weg 18\, Frankfurt am Main\, 60437
ATTACH;FMTTYPE=image/png:https://beactive-frankfurt.de/wp-content/uploads/2025/08/MSRM-Angebote.png
ORGANIZER;CN="TSV 1875 Bonames e.V.":MAILTO:tsv@tsvb.de
END:VEVENT
BEGIN:VEVENT
DTSTART;TZID=Europe/Berlin:20250924T190000
DTEND;TZID=Europe/Berlin:20250924T200000
DTSTAMP:20260421T164556
CREATED:20250822T140814Z
LAST-MODIFIED:20250822T140816Z
UID:10001358-1758740400-1758744000@beactive-frankfurt.de
SUMMARY:Zumba
DESCRIPTION:ZUMBA ist von lateinamerikanischer Musik inspiriert. Zumba ist für alle Menschen geeignet\, die Stress und überflüssige Pfunde ohne großen Aufwand einfach wegtanzen möchten. Mit Spaß und großartiger Partystimmung durch den heißen Musik-Mix aus Salsa\, Merengue\, Calypso oder Reggaeton\, wird der Körper gestrafft und gleichzeitig die Kondition verbessert. Das Zumba-Progamm ist ein effektives und spannendes Fitness-Workout für alle – geeignet auch für diejenigen\, die nicht tanzen können.
URL:https://beactive-frankfurt.de/veranstaltung/zumba-17/
LOCATION:Saalbau Nidda\, TSV-Gymnastikhalle\, Harheimer Weg 18\, Frankfurt am Main\, 60437
ATTACH;FMTTYPE=image/png:https://beactive-frankfurt.de/wp-content/uploads/2025/08/MSRM-Angebote.png
ORGANIZER;CN="TSV 1875 Bonames e.V.":MAILTO:tsv@tsvb.de
END:VEVENT
BEGIN:VEVENT
DTSTART;TZID=Europe/Berlin:20250924T190000
DTEND;TZID=Europe/Berlin:20250924T200000
DTSTAMP:20260421T164556
CREATED:20250822T140735Z
LAST-MODIFIED:20250822T140737Z
UID:10001353-1758740400-1758744000@beactive-frankfurt.de
SUMMARY:Zumba
DESCRIPTION:ZUMBA ist von lateinamerikanischer Musik inspiriert. Zumba ist für alle Menschen geeignet\, die Stress und überflüssige Pfunde ohne großen Aufwand einfach wegtanzen möchten. Mit Spaß und großartiger Partystimmung durch den heißen Musik-Mix aus Salsa\, Merengue\, Calypso oder Reggaeton\, wird der Körper gestrafft und gleichzeitig die Kondition verbessert. Das Zumba-Progamm ist ein effektives und spannendes Fitness-Workout für alle – geeignet auch für diejenigen\, die nicht tanzen können.
URL:https://beactive-frankfurt.de/veranstaltung/zumba-12/
LOCATION:Saalbau Nidda\, TSV-Gymnastikhalle\, Harheimer Weg 18\, Frankfurt am Main\, 60437
ATTACH;FMTTYPE=image/png:https://beactive-frankfurt.de/wp-content/uploads/2025/08/MSRM-Angebote.png
ORGANIZER;CN="TSV 1875 Bonames e.V.":MAILTO:tsv@tsvb.de
END:VEVENT
BEGIN:VEVENT
DTSTART;TZID=Europe/Berlin:20250924T190000
DTEND;TZID=Europe/Berlin:20250924T200000
DTSTAMP:20260421T164556
CREATED:20250822T133853Z
LAST-MODIFIED:20250822T133855Z
UID:10001140-1758740400-1758744000@beactive-frankfurt.de
SUMMARY:Zumba
DESCRIPTION:ZUMBA ist von lateinamerikanischer Musik inspiriert. Zumba ist für alle Menschen geeignet\, die Stress und überflüssige Pfunde ohne großen Aufwand einfach wegtanzen möchten. Mit Spaß und großartiger Partystimmung durch den heißen Musik-Mix aus Salsa\, Merengue\, Calypso oder Reggaeton\, wird der Körper gestrafft und gleichzeitig die Kondition verbessert. Das Zumba-Progamm ist ein effektives und spannendes Fitness-Workout für alle – geeignet auch für diejenigen\, die nicht tanzen können.
URL:https://beactive-frankfurt.de/veranstaltung/zumba-8/
LOCATION:Saalbau Nidda\, TSV-Gymnastikhalle\, Harheimer Weg 18\, Frankfurt am Main\, 60437
ATTACH;FMTTYPE=image/png:https://beactive-frankfurt.de/wp-content/uploads/2025/08/MSRM-Angebote.png
ORGANIZER;CN="TSV 1875 Bonames e.V.":MAILTO:tsv@tsvb.de
END:VEVENT
BEGIN:VEVENT
DTSTART;TZID=Europe/Berlin:20250924T190000
DTEND;TZID=Europe/Berlin:20250924T200000
DTSTAMP:20260421T164556
CREATED:20250822T133816Z
LAST-MODIFIED:20250822T133818Z
UID:10001135-1758740400-1758744000@beactive-frankfurt.de
SUMMARY:Zumba
DESCRIPTION:ZUMBA ist von lateinamerikanischer Musik inspiriert. Zumba ist für alle Menschen geeignet\, die Stress und überflüssige Pfunde ohne großen Aufwand einfach wegtanzen möchten. Mit Spaß und großartiger Partystimmung durch den heißen Musik-Mix aus Salsa\, Merengue\, Calypso oder Reggaeton\, wird der Körper gestrafft und gleichzeitig die Kondition verbessert. Das Zumba-Progamm ist ein effektives und spannendes Fitness-Workout für alle – geeignet auch für diejenigen\, die nicht tanzen können.
URL:https://beactive-frankfurt.de/veranstaltung/zumba-2/
LOCATION:Saalbau Nidda\, TSV-Gymnastikhalle\, Harheimer Weg 18\, Frankfurt am Main\, 60437
ATTACH;FMTTYPE=image/png:https://beactive-frankfurt.de/wp-content/uploads/2025/08/MSRM-Angebote.png
ORGANIZER;CN="TSV 1875 Bonames e.V.":MAILTO:tsv@tsvb.de
END:VEVENT
BEGIN:VEVENT
DTSTART;TZID=Europe/Berlin:20250924T180000
DTEND;TZID=Europe/Berlin:20250924T190000
DTSTAMP:20260421T164556
CREATED:20250822T140930Z
LAST-MODIFIED:20250822T140932Z
UID:10001366-1758736800-1758740400@beactive-frankfurt.de
SUMMARY:Zumba
DESCRIPTION:ZUMBA ist von lateinamerikanischer Musik inspiriert. Zumba ist für alle Menschen geeignet\, die Stress und überflüssige Pfunde ohne großen Aufwand einfach wegtanzen möchten. Mit Spaß und großartiger Partystimmung durch den heißen Musik-Mix aus Salsa\, Merengue\, Calypso oder Reggaeton\, wird der Körper gestrafft und gleichzeitig die Kondition verbessert. Das Zumba-Progamm ist ein effektives und spannendes Fitness-Workout für alle – geeignet auch für diejenigen\, die nicht tanzen können.
URL:https://beactive-frankfurt.de/veranstaltung/zumba-25/
LOCATION:Saalbau Nidda\, TSV-Gymnastikhalle\, Harheimer Weg 18\, Frankfurt am Main\, 60437
ATTACH;FMTTYPE=image/png:https://beactive-frankfurt.de/wp-content/uploads/2025/08/MSRM-Angebote.png
ORGANIZER;CN="TSV 1875 Bonames e.V.":MAILTO:tsv@tsvb.de
END:VEVENT
BEGIN:VEVENT
DTSTART;TZID=Europe/Berlin:20250924T170000
DTEND;TZID=Europe/Berlin:20250924T180000
DTSTAMP:20260421T164556
CREATED:20250822T140806Z
LAST-MODIFIED:20250822T140808Z
UID:10001357-1758733200-1758736800@beactive-frankfurt.de
SUMMARY:Zumba
DESCRIPTION:ZUMBA ist von lateinamerikanischer Musik inspiriert. Zumba ist für alle Menschen geeignet\, die Stress und überflüssige Pfunde ohne großen Aufwand einfach wegtanzen möchten. Mit Spaß und großartiger Partystimmung durch den heißen Musik-Mix aus Salsa\, Merengue\, Calypso oder Reggaeton\, wird der Körper gestrafft und gleichzeitig die Kondition verbessert. Das Zumba-Progamm ist ein effektives und spannendes Fitness-Workout für alle – geeignet auch für diejenigen\, die nicht tanzen können.
URL:https://beactive-frankfurt.de/veranstaltung/zumba-16/
LOCATION:Saalbau Nidda\, TSV-Gymnastikhalle\, Harheimer Weg 18\, Frankfurt am Main\, 60437
ATTACH;FMTTYPE=image/png:https://beactive-frankfurt.de/wp-content/uploads/2025/08/MSRM-Angebote.png
ORGANIZER;CN="TSV 1875 Bonames e.V.":MAILTO:tsv@tsvb.de
END:VEVENT
END:VCALENDAR