BEGIN:VCALENDAR
VERSION:2.0
PRODID:-//BeActive FrankfurtRheinMain - ECPv6.3.7//NONSGML v1.0//EN
CALSCALE:GREGORIAN
METHOD:PUBLISH
X-ORIGINAL-URL:https://beactive-frankfurt.de
X-WR-CALDESC:Veranstaltungen für BeActive FrankfurtRheinMain
REFRESH-INTERVAL;VALUE=DURATION:PT1H
X-Robots-Tag:noindex
X-PUBLISHED-TTL:PT1H
BEGIN:VTIMEZONE
TZID:Europe/Berlin
BEGIN:DAYLIGHT
TZOFFSETFROM:+0100
TZOFFSETTO:+0200
TZNAME:CEST
DTSTART:20250330T010000
END:DAYLIGHT
BEGIN:STANDARD
TZOFFSETFROM:+0200
TZOFFSETTO:+0100
TZNAME:CET
DTSTART:20251026T010000
END:STANDARD
END:VTIMEZONE
BEGIN:VEVENT
DTSTART;TZID=Europe/Berlin:20250929T163000
DTEND;TZID=Europe/Berlin:20250929T180000
DTSTAMP:20260423T120905
CREATED:20250822T132849Z
LAST-MODIFIED:20250822T132851Z
UID:10001057-1759163400-1759168800@beactive-frankfurt.de
SUMMARY:Mädchen Fußball
DESCRIPTION:Du bist zwischen 7 und 14 Jahre alt dann komm ins Probetraining. Eure SC Girls freuen sich!
URL:https://beactive-frankfurt.de/veranstaltung/maedchen-fussball/
LOCATION:SC Goldstein 1951 e.V.\, Am Wiesenhof 28\, Frankfurt am Main\, 60529
ATTACH;FMTTYPE=image/png:https://beactive-frankfurt.de/wp-content/uploads/2025/08/MSRM-Angebote.png
ORGANIZER;CN="SC Goldstein 1951 e.V.":MAILTO:info@sc-goldstein.de
END:VEVENT
BEGIN:VEVENT
DTSTART;TZID=Europe/Berlin:20250926T163000
DTEND;TZID=Europe/Berlin:20250926T180000
DTSTAMP:20260423T120905
CREATED:20250822T132855Z
LAST-MODIFIED:20250822T132857Z
UID:10001058-1758904200-1758909600@beactive-frankfurt.de
SUMMARY:Mädchen Fußball
DESCRIPTION:Du bist zwischen 7 und 14 Jahre alt dann komm ins Probetraining. Eure SC Girls freuen sich!
URL:https://beactive-frankfurt.de/veranstaltung/maedchen-fussball-2/
LOCATION:SC Goldstein 1951 e.V.\, Am Wiesenhof 28\, Frankfurt am Main\, 60529
ATTACH;FMTTYPE=image/png:https://beactive-frankfurt.de/wp-content/uploads/2025/08/MSRM-Angebote.png
ORGANIZER;CN="SC Goldstein 1951 e.V.":MAILTO:info@sc-goldstein.de
END:VEVENT
END:VCALENDAR