BEGIN:VCALENDAR
VERSION:2.0
PRODID:-//BeActive FrankfurtRheinMain - ECPv6.3.7//NONSGML v1.0//EN
CALSCALE:GREGORIAN
METHOD:PUBLISH
X-ORIGINAL-URL:https://beactive-frankfurt.de
X-WR-CALDESC:Veranstaltungen für BeActive FrankfurtRheinMain
REFRESH-INTERVAL;VALUE=DURATION:PT1H
X-Robots-Tag:noindex
X-PUBLISHED-TTL:PT1H
BEGIN:VTIMEZONE
TZID:Europe/Berlin
BEGIN:DAYLIGHT
TZOFFSETFROM:+0100
TZOFFSETTO:+0200
TZNAME:CEST
DTSTART:20250330T010000
END:DAYLIGHT
BEGIN:STANDARD
TZOFFSETFROM:+0200
TZOFFSETTO:+0100
TZNAME:CET
DTSTART:20251026T010000
END:STANDARD
END:VTIMEZONE
BEGIN:VEVENT
DTSTART;TZID=Europe/Berlin:20250929T194500
DTEND;TZID=Europe/Berlin:20250929T211500
DTSTAMP:20260420T145208
CREATED:20250822T134303Z
LAST-MODIFIED:20250822T134306Z
UID:10001171-1759175100-1759180500@beactive-frankfurt.de
SUMMARY:1. Frauen Mannschaft
DESCRIPTION:1. Frauen Mannschaft
URL:https://beactive-frankfurt.de/veranstaltung/1-frauen-mannschaft/
LOCATION:SG Bornheim 1945 e.V. Grün-Weiß\, Berger Str. 385B\, Frankfurt am Main\, 60385
ATTACH;FMTTYPE=image/png:https://beactive-frankfurt.de/wp-content/uploads/2025/08/MSRM-Angebote.png
ORGANIZER;CN="SG Bornheim 1945 e.V. Gr%C3%BCn-Wei%C3%9F":MAILTO:info@sgbornheim.de
END:VEVENT
BEGIN:VEVENT
DTSTART;TZID=Europe/Berlin:20250926T194500
DTEND;TZID=Europe/Berlin:20250926T211500
DTSTAMP:20260420T145208
CREATED:20250822T134317Z
LAST-MODIFIED:20250822T134319Z
UID:10001173-1758915900-1758921300@beactive-frankfurt.de
SUMMARY:1. Frauen Mannschaft
DESCRIPTION:1. Frauen Mannschaft
URL:https://beactive-frankfurt.de/veranstaltung/1-frauen-mannschaft-3/
LOCATION:SG Bornheim 1945 e.V. Grün-Weiß\, Berger Str. 385B\, Frankfurt am Main\, 60385
ATTACH;FMTTYPE=image/png:https://beactive-frankfurt.de/wp-content/uploads/2025/08/MSRM-Angebote.png
ORGANIZER;CN="SG Bornheim 1945 e.V. Gr%C3%BCn-Wei%C3%9F":MAILTO:info@sgbornheim.de
END:VEVENT
BEGIN:VEVENT
DTSTART;TZID=Europe/Berlin:20250924T194500
DTEND;TZID=Europe/Berlin:20250924T211500
DTSTAMP:20260420T145208
CREATED:20250822T134310Z
LAST-MODIFIED:20250822T134312Z
UID:10001172-1758743100-1758748500@beactive-frankfurt.de
SUMMARY:1. Frauen Mannschaft
DESCRIPTION:1. Frauen Mannschaft
URL:https://beactive-frankfurt.de/veranstaltung/1-frauen-mannschaft-2/
LOCATION:SG Bornheim 1945 e.V. Grün-Weiß\, Berger Str. 385B\, Frankfurt am Main\, 60385
ATTACH;FMTTYPE=image/png:https://beactive-frankfurt.de/wp-content/uploads/2025/08/MSRM-Angebote.png
ORGANIZER;CN="SG Bornheim 1945 e.V. Gr%C3%BCn-Wei%C3%9F":MAILTO:info@sgbornheim.de
END:VEVENT
END:VCALENDAR