BEGIN:VCALENDAR
VERSION:2.0
PRODID:-//BeActive FrankfurtRheinMain - ECPv6.3.7//NONSGML v1.0//EN
CALSCALE:GREGORIAN
METHOD:PUBLISH
X-WR-CALNAME:BeActive FrankfurtRheinMain
X-ORIGINAL-URL:https://beactive-frankfurt.de
X-WR-CALDESC:Veranstaltungen für BeActive FrankfurtRheinMain
REFRESH-INTERVAL;VALUE=DURATION:PT1H
X-Robots-Tag:noindex
X-PUBLISHED-TTL:PT1H
BEGIN:VTIMEZONE
TZID:Europe/Berlin
BEGIN:DAYLIGHT
TZOFFSETFROM:+0100
TZOFFSETTO:+0200
TZNAME:CEST
DTSTART:20250330T010000
END:DAYLIGHT
BEGIN:STANDARD
TZOFFSETFROM:+0200
TZOFFSETTO:+0100
TZNAME:CET
DTSTART:20251026T010000
END:STANDARD
END:VTIMEZONE
BEGIN:VEVENT
DTSTART;TZID=Europe/Berlin:20250929T201500
DTEND;TZID=Europe/Berlin:20250929T220000
DTSTAMP:20260424T180418
CREATED:20250822T141053Z
LAST-MODIFIED:20250822T141055Z
UID:10001378-1759176900-1759183200@beactive-frankfurt.de
SUMMARY:Badminton für Erwachsene
DESCRIPTION:Unsere Trainer vermitteln Ihnen die Grundlagen des Badmintonsports – sowohl Technik als auch Taktik. Anfänger und Fortgeschrittene sind jederzeit herzlich willkommen.
URL:https://beactive-frankfurt.de/veranstaltung/badminton-fuer-erwachsene/
LOCATION:Sporthalle des Heinrich-von-Gagern-Gymnasiums\, Bernhard-Grzimek-Allee 6-8\, Maintal\, 63477
ATTACH;FMTTYPE=image/png:https://beactive-frankfurt.de/wp-content/uploads/2025/08/MSRM-Angebote.png
ORGANIZER;CN="Badminton Verein Frankfurt 06 e.V.":MAILTO:verwaltung@bvfrankfurt.de
END:VEVENT
BEGIN:VEVENT
DTSTART;TZID=Europe/Berlin:20250926T203000
DTEND;TZID=Europe/Berlin:20250926T220000
DTSTAMP:20260424T180418
CREATED:20250822T141059Z
LAST-MODIFIED:20250822T141102Z
UID:10001379-1758918600-1758924000@beactive-frankfurt.de
SUMMARY:Badminton für Erwachsene
DESCRIPTION:Unsere Trainer vermitteln Ihnen die Grundlagen des Badmintonsports – sowohl Technik als auch Taktik. Anfänger und Fortgeschrittene sind jederzeit herzlich willkommen.
URL:https://beactive-frankfurt.de/veranstaltung/badminton-fuer-erwachsene-2/
LOCATION:Sporthalle des Heinrich-von-Gagern-Gymnasiums\, Bernhard-Grzimek-Allee 6-8\, Maintal\, 63477
ATTACH;FMTTYPE=image/png:https://beactive-frankfurt.de/wp-content/uploads/2025/08/MSRM-Angebote.png
ORGANIZER;CN="Badminton Verein Frankfurt 06 e.V.":MAILTO:verwaltung@bvfrankfurt.de
END:VEVENT
BEGIN:VEVENT
DTSTART;TZID=Europe/Berlin:20250924T203000
DTEND;TZID=Europe/Berlin:20250924T220000
DTSTAMP:20260424T180418
CREATED:20250822T141106Z
LAST-MODIFIED:20250822T141108Z
UID:10001380-1758745800-1758751200@beactive-frankfurt.de
SUMMARY:Badminton für Erwachsene
DESCRIPTION:Unsere Trainer vermitteln Ihnen die Grundlagen des Badmintonsports – sowohl Technik als auch Taktik. Anfänger und Fortgeschrittene sind jederzeit herzlich willkommen.
URL:https://beactive-frankfurt.de/veranstaltung/badminton-fuer-erwachsene-3/
LOCATION:Sporthalle des Heinrich-von-Gagern-Gymnasiums\, Bernhard-Grzimek-Allee 6-8\, Maintal\, 63477
ATTACH;FMTTYPE=image/png:https://beactive-frankfurt.de/wp-content/uploads/2025/08/MSRM-Angebote.png
ORGANIZER;CN="Badminton Verein Frankfurt 06 e.V.":MAILTO:verwaltung@bvfrankfurt.de
END:VEVENT
END:VCALENDAR