BEGIN:VCALENDAR
VERSION:2.0
PRODID:-//BeActive FrankfurtRheinMain - ECPv6.3.7//NONSGML v1.0//EN
CALSCALE:GREGORIAN
METHOD:PUBLISH
X-WR-CALNAME:BeActive FrankfurtRheinMain
X-ORIGINAL-URL:https://beactive-frankfurt.de
X-WR-CALDESC:Veranstaltungen für BeActive FrankfurtRheinMain
REFRESH-INTERVAL;VALUE=DURATION:PT1H
X-Robots-Tag:noindex
X-PUBLISHED-TTL:PT1H
BEGIN:VTIMEZONE
TZID:Europe/Berlin
BEGIN:DAYLIGHT
TZOFFSETFROM:+0100
TZOFFSETTO:+0200
TZNAME:CEST
DTSTART:20250330T010000
END:DAYLIGHT
BEGIN:STANDARD
TZOFFSETFROM:+0200
TZOFFSETTO:+0100
TZNAME:CET
DTSTART:20251026T010000
END:STANDARD
END:VTIMEZONE
BEGIN:VEVENT
DTSTART;TZID=Europe/Berlin:20250930T163000
DTEND;TZID=Europe/Berlin:20250930T172500
DTSTAMP:20260420T155638
CREATED:20250822T132949Z
LAST-MODIFIED:20250822T132951Z
UID:10001066-1759249800-1759253100@beactive-frankfurt.de
SUMMARY:Boys only
DESCRIPTION:Dance Moves – Boys only! Jetzt in der Geschäftsstelle zur Hip-Hop-Breakdance-Kombi anmelden. Coole Steps und leichte Breakdance Moves – in diesem Kurs geht es nicht nur um’s Tanzen\, sondern auch um einfache Akrobatik. Das ist der perfekte Einstieg für alle\, die sich für Hip-Hop interessieren. In Verbindung mit Rhythmus und Taktgefühl lernst du hier Hip-Hop-Schritte und vieles mehr.
URL:https://beactive-frankfurt.de/veranstaltung/boys-only/
LOCATION:SV Fun-Ball Dortelweil e.V.\, Willy-Brandt-Str. 1\, Bad Vilbel\, 61118
ATTACH;FMTTYPE=image/png:https://beactive-frankfurt.de/wp-content/uploads/2025/08/MSRM-Angebote.png
ORGANIZER;CN="SV Fun-Ball Dortelweil e.V.":MAILTO:info@fun-ball-dortelweil.de
END:VEVENT
END:VCALENDAR