BEGIN:VCALENDAR
VERSION:2.0
PRODID:-//BeActive FrankfurtRheinMain - ECPv6.3.7//NONSGML v1.0//EN
CALSCALE:GREGORIAN
METHOD:PUBLISH
X-ORIGINAL-URL:https://beactive-frankfurt.de
X-WR-CALDESC:Veranstaltungen für BeActive FrankfurtRheinMain
REFRESH-INTERVAL;VALUE=DURATION:PT1H
X-Robots-Tag:noindex
X-PUBLISHED-TTL:PT1H
BEGIN:VTIMEZONE
TZID:Europe/Berlin
BEGIN:DAYLIGHT
TZOFFSETFROM:+0100
TZOFFSETTO:+0200
TZNAME:CEST
DTSTART:20250330T010000
END:DAYLIGHT
BEGIN:STANDARD
TZOFFSETFROM:+0200
TZOFFSETTO:+0100
TZNAME:CET
DTSTART:20251026T010000
END:STANDARD
END:VTIMEZONE
BEGIN:VEVENT
DTSTART;TZID=Europe/Berlin:20250926T143000
DTEND;TZID=Europe/Berlin:20250926T153000
DTSTAMP:20260419T184136
CREATED:20250822T133937Z
LAST-MODIFIED:20250822T133939Z
UID:10001143-1758897000-1758900600@beactive-frankfurt.de
SUMMARY:Psychomotorik
DESCRIPTION:Dieser Kurs soll alle Kinder ab 4 Jahre ansprechen\, die im Wahrnehmungsbereich kleinere oder auch größere Probleme haben. Auch Kinder mit ADHS-Problematik sind herzlich eingeladen. Dieses Angebot versteht sich als Ergänzung zu anderen Turngruppen\, der Frühförderung und Ergotherapie. . Elterngespräche ergänzen das Angebot. In der Psychomotorik geht es um den Zusammenhang und die Wechselwirkung von Bewegung und Psyche. Der Körper und die Bewegung werden dabei als Medium eingesetzt um einen Zugang zu inneren Prozessen zu erlangen. Ziel der Psychomotorik ist eine ganzheitliche Förderung\, die die Kinder in ihrer Entwicklung begleiten und unterstützen soll. Daher steht nicht eine isolierte Förderung motorischer Aspekte im Vordergrund\, sondern eine ganzheitliche Persönlichkeitsförderung. In der Psychomotorik werden Situationen geschaffen\, in denen die Kinder Körper-\, Material- und Sozialerfahrungen sammeln können und sich selbstwirksam erleben. Psychomotorik findet in Kleingruppen statt\, damit individuell auf jedes Kind eingegangen und die Stunde den Bedürfnissen der Kinder angepasst werden kann. Inhalte und Ziele der Psychomotorik sind Körper-\, Material- und Sozialerfahrung\, Wahrnehmungsförderung\, motorische Förderung\, Förderung psychosozialer Kompetenzen\, ganzheitliche Persönlichkeits- und Entwicklungsförderung
URL:https://beactive-frankfurt.de/veranstaltung/psychomotorik/
LOCATION:Turnhalle Bonames\, Halle 3\, Harheimer Weg 18\, Frankfurt am Main\, 60437
ATTACH;FMTTYPE=image/png:https://beactive-frankfurt.de/wp-content/uploads/2025/08/MSRM-Angebote.png
ORGANIZER;CN="TSV 1875 Bonames e.V.":MAILTO:tsv@tsvb.de
END:VEVENT
END:VCALENDAR