BEGIN:VCALENDAR
VERSION:2.0
PRODID:-//BeActive FrankfurtRheinMain - ECPv6.3.7//NONSGML v1.0//EN
CALSCALE:GREGORIAN
METHOD:PUBLISH
X-WR-CALNAME:BeActive FrankfurtRheinMain
X-ORIGINAL-URL:https://beactive-frankfurt.de
X-WR-CALDESC:Veranstaltungen für BeActive FrankfurtRheinMain
REFRESH-INTERVAL;VALUE=DURATION:PT1H
X-Robots-Tag:noindex
X-PUBLISHED-TTL:PT1H
BEGIN:VTIMEZONE
TZID:Europe/Berlin
BEGIN:DAYLIGHT
TZOFFSETFROM:+0100
TZOFFSETTO:+0200
TZNAME:CEST
DTSTART:20250330T010000
END:DAYLIGHT
BEGIN:STANDARD
TZOFFSETFROM:+0200
TZOFFSETTO:+0100
TZNAME:CET
DTSTART:20251026T010000
END:STANDARD
END:VTIMEZONE
BEGIN:VEVENT
DTSTART;TZID=Europe/Berlin:20250925T200000
DTEND;TZID=Europe/Berlin:20250925T210000
DTSTAMP:20260424T094012
CREATED:20250703T083525Z
LAST-MODIFIED:20250703T083525Z
UID:10000719-1758830400-1758834000@beactive-frankfurt.de
SUMMARY:Yoga Schnuppern beim VFL Goldstein
DESCRIPTION:Dieses Angebot richtet sich an alle\, die Körper und Geist in Einklang bringen und gleichzeitig etwas für ihre Beweglichkeit und innere Ruhe tun möchten. Wenn Sie offen sind für Achtsamkeit\, bewusste Atmung und sanfte\, aber wirkungsvolle Bewegungen\, dann ist dieser Kurs genau das Richtige für Sie. Kommen Sie gerne zum Schnuppern vorbei und erleben Sie\, wie wohltuend und ausgleichend Yoga sein kann!
URL:https://beactive-frankfurt.de/veranstaltung/yoga-schnuppern-beim-vfl-goldstein/2025-09-25/
LOCATION:Vereinshaus VfL Goldstein\, Zur Waldau 12\, Frankfurt\, Hessen\, 60529\, Deutschland
CATEGORIES:#BeActive Schnuppern
ATTACH;FMTTYPE=image/jpeg:https://beactive-frankfurt.de/wp-content/uploads/2025/07/Schnuppern_GymnastikVFL.jpg
END:VEVENT
BEGIN:VEVENT
DTSTART;TZID=Europe/Berlin:20250925T190000
DTEND;TZID=Europe/Berlin:20250925T200000
DTSTAMP:20260424T094012
CREATED:20250703T085723Z
LAST-MODIFIED:20250703T085723Z
UID:10000723-1758826800-1758830400@beactive-frankfurt.de
SUMMARY:Pilates Schnuppern beim VfL Goldstein
DESCRIPTION:Stabilität\, Kontrolle und Körperbewusstsein stehen im Mittelpunkt dieses Trainings. Pilates kräftigt die Tiefenmuskulatur\, verbessert die Haltung und bringt den ganzen Körper ins Gleichgewicht. Ideal für alle\, die gezielt und konzentriert trainieren möchten – ganz ohne Hektik\, aber mit spürbarem Effekt. Kommen Sie gerne zum Schnuppern vorbei und erleben Sie die wohltuende Wirkung von Pilates!
URL:https://beactive-frankfurt.de/veranstaltung/pilates-schnuppern-beim-vfl-goldstein/2025-09-25/2/
LOCATION:Vereinshaus VfL Goldstein\, Zur Waldau 12\, Frankfurt\, Hessen\, 60529\, Deutschland
CATEGORIES:#BeActive Schnuppern
ATTACH;FMTTYPE=image/jpeg:https://beactive-frankfurt.de/wp-content/uploads/2025/07/Schnuppern_PilatesVfL.jpg
END:VEVENT
BEGIN:VEVENT
DTSTART;TZID=Europe/Berlin:20250925T180000
DTEND;TZID=Europe/Berlin:20250925T190000
DTSTAMP:20260424T094012
CREATED:20250703T085723Z
LAST-MODIFIED:20250703T085723Z
UID:10000722-1758823200-1758826800@beactive-frankfurt.de
SUMMARY:Pilates Schnuppern beim VfL Goldstein
DESCRIPTION:Stabilität\, Kontrolle und Körperbewusstsein stehen im Mittelpunkt dieses Trainings. Pilates kräftigt die Tiefenmuskulatur\, verbessert die Haltung und bringt den ganzen Körper ins Gleichgewicht. Ideal für alle\, die gezielt und konzentriert trainieren möchten – ganz ohne Hektik\, aber mit spürbarem Effekt. Kommen Sie gerne zum Schnuppern vorbei und erleben Sie die wohltuende Wirkung von Pilates!
URL:https://beactive-frankfurt.de/veranstaltung/pilates-schnuppern-beim-vfl-goldstein/2025-09-25/1/
LOCATION:Vereinshaus VfL Goldstein\, Zur Waldau 12\, Frankfurt\, Hessen\, 60529\, Deutschland
CATEGORIES:#BeActive Schnuppern
ATTACH;FMTTYPE=image/jpeg:https://beactive-frankfurt.de/wp-content/uploads/2025/07/Schnuppern_PilatesVfL.jpg
END:VEVENT
BEGIN:VEVENT
DTSTART;TZID=Europe/Berlin:20250925T180000
DTEND;TZID=Europe/Berlin:20250925T190000
DTSTAMP:20260424T094012
CREATED:20250703T084008Z
LAST-MODIFIED:20250703T084146Z
UID:10000721-1758823200-1758826800@beactive-frankfurt.de
SUMMARY:IntenseFit Schnuppern beim VfL Goldstein
DESCRIPTION:Lust auf ein energiegeladenes Workout\, das Sie an Ihre Grenzen bringt? IntenseFit ist genau das Richtige für alle\, die sich auspowern\, ihre Muskeln fordern und ordentlich ins Schwitzen kommen möchten. Dieses funktionelle Training vereint Kraft\, Ausdauer und Dynamik. Testen Sie sich selbst – wir laden Sie herzlich zum Schnuppern ein!
URL:https://beactive-frankfurt.de/veranstaltung/intensefit-schnuppern-beim-vfl-goldstein/2025-09-25/
LOCATION:Vereinshaus VfL Goldstein\, Zur Waldau 12\, Frankfurt\, Hessen\, 60529\, Deutschland
CATEGORIES:#BeActive Schnuppern
ATTACH;FMTTYPE=image/jpeg:https://beactive-frankfurt.de/wp-content/uploads/2025/07/Schnuppern_GymnastikVFL.jpg
END:VEVENT
BEGIN:VEVENT
DTSTART;TZID=Europe/Berlin:20250924T203000
DTEND;TZID=Europe/Berlin:20250924T211500
DTSTAMP:20260424T094012
CREATED:20250703T102033Z
LAST-MODIFIED:20250703T102033Z
UID:10000726-1758745800-1758748500@beactive-frankfurt.de
SUMMARY:Funktionelles Kraftzirkel Schnuppern beim VfL Goldstein
DESCRIPTION:Abwechslungsreich\, fordernd und effektiv – im funktionellen Kraftzirkel trainieren Sie den gesamten Körper in gezielten Stationen. Jede Übung orientiert sich an natürlichen Bewegungsabläufen und fördert Kraft\, Stabilität und Koordination. Ideal für alle\, die strukturiert trainieren und sichtbare Fortschritte erzielen möchten. Probieren Sie es aus – beim Schnuppern können Sie den Zirkel direkt erleben!
URL:https://beactive-frankfurt.de/veranstaltung/funktionelles-kraftzirkel-schnuppern-beim-vfl-goldstein/
LOCATION:Vereinshaus VfL Goldstein\, Zur Waldau 12\, Frankfurt\, Hessen\, 60529\, Deutschland
CATEGORIES:#BeActive Schnuppern
ATTACH;FMTTYPE=image/jpeg:https://beactive-frankfurt.de/wp-content/uploads/2025/07/Schnuppern_KraftzirkelVfL.jpg
END:VEVENT
BEGIN:VEVENT
DTSTART;TZID=Europe/Berlin:20250924T193000
DTEND;TZID=Europe/Berlin:20250924T203000
DTSTAMP:20260424T094012
CREATED:20250703T101245Z
LAST-MODIFIED:20250703T101323Z
UID:10000725-1758742200-1758745800@beactive-frankfurt.de
SUMMARY:Rückenfit Schnuppern beim VfL Goldstein
DESCRIPTION:Ein starker Rücken kennt keinen Schmerz – in diesem Kurs stärken Sie gezielt Ihre Rückenmuskulatur\, verbessern Ihre Haltung und beugen Verspannungen vor. Mit funktionellen Übungen und wohltuender Mobilisation ist dieses Training ideal für alle\, die ihrem Rücken etwas Gutes tun möchten. Schnuppern Sie gerne rein und erleben Sie\, wie wohltuend gezielte Bewegung sein kann!
URL:https://beactive-frankfurt.de/veranstaltung/rueckenfit-schnuppern-beim-vfl-goldstein/
LOCATION:Vereinshaus VfL Goldstein\, Zur Waldau 12\, Frankfurt\, Hessen\, 60529\, Deutschland
CATEGORIES:#BeActive Schnuppern
ATTACH;FMTTYPE=image/jpeg:https://beactive-frankfurt.de/wp-content/uploads/2025/07/Schnuppern_RueckenfitVfL.jpg
END:VEVENT
BEGIN:VEVENT
DTSTART;TZID=Europe/Berlin:20250923T200000
DTEND;TZID=Europe/Berlin:20250923T210000
DTSTAMP:20260424T094012
CREATED:20250703T100606Z
LAST-MODIFIED:20250703T100606Z
UID:10000724-1758657600-1758661200@beactive-frankfurt.de
SUMMARY:Hula Hoop Schnuppern beim VfL Goldstein
DESCRIPTION:Spaß trifft Training – mit dem Hula Hoop bringen Sie Ihre Körpermitte in Schwung! Dieses abwechslungsreiche Workout stärkt die Bauch- und Rückenmuskulatur\, verbessert die Koordination und macht einfach gute Laune. Egal ob Einsteiger oder mit etwas Erfahrung: Kommen Sie vorbei und schnuppern Sie rein – drehen Sie die Reifen und entdecken Sie\, wie effektiv und unterhaltsam Hula Hoop sein kann!
URL:https://beactive-frankfurt.de/veranstaltung/hula-hoop-schnuppern-beim-vfl-goldstein/
LOCATION:Vereinshaus VfL Goldstein\, Zur Waldau 12\, Frankfurt\, Hessen\, 60529\, Deutschland
CATEGORIES:#BeActive Schnuppern
ATTACH;FMTTYPE=image/jpeg:https://beactive-frankfurt.de/wp-content/uploads/2025/07/Schnuppern_HulaHoopVfL.jpg
END:VEVENT
BEGIN:VEVENT
DTSTART;TZID=Europe/Berlin:20250923T190000
DTEND;TZID=Europe/Berlin:20250923T200000
DTSTAMP:20260424T094012
CREATED:20250703T084008Z
LAST-MODIFIED:20250703T084146Z
UID:10000720-1758654000-1758657600@beactive-frankfurt.de
SUMMARY:IntenseFit Schnuppern beim VfL Goldstein
DESCRIPTION:Lust auf ein energiegeladenes Workout\, das Sie an Ihre Grenzen bringt? IntenseFit ist genau das Richtige für alle\, die sich auspowern\, ihre Muskeln fordern und ordentlich ins Schwitzen kommen möchten. Dieses funktionelle Training vereint Kraft\, Ausdauer und Dynamik. Testen Sie sich selbst – wir laden Sie herzlich zum Schnuppern ein!
URL:https://beactive-frankfurt.de/veranstaltung/intensefit-schnuppern-beim-vfl-goldstein/2025-09-23/
LOCATION:Vereinshaus VfL Goldstein\, Zur Waldau 12\, Frankfurt\, Hessen\, 60529\, Deutschland
CATEGORIES:#BeActive Schnuppern
ATTACH;FMTTYPE=image/jpeg:https://beactive-frankfurt.de/wp-content/uploads/2025/07/Schnuppern_GymnastikVFL.jpg
END:VEVENT
BEGIN:VEVENT
DTSTART;TZID=Europe/Berlin:20250923T173000
DTEND;TZID=Europe/Berlin:20250923T183000
DTSTAMP:20260424T094012
CREATED:20250703T083525Z
LAST-MODIFIED:20250703T083525Z
UID:10000718-1758648600-1758652200@beactive-frankfurt.de
SUMMARY:Yoga Schnuppern beim VFL Goldstein
DESCRIPTION:Dieses Angebot richtet sich an alle\, die Körper und Geist in Einklang bringen und gleichzeitig etwas für ihre Beweglichkeit und innere Ruhe tun möchten. Wenn Sie offen sind für Achtsamkeit\, bewusste Atmung und sanfte\, aber wirkungsvolle Bewegungen\, dann ist dieser Kurs genau das Richtige für Sie. Kommen Sie gerne zum Schnuppern vorbei und erleben Sie\, wie wohltuend und ausgleichend Yoga sein kann!
URL:https://beactive-frankfurt.de/veranstaltung/yoga-schnuppern-beim-vfl-goldstein/2025-09-23/
LOCATION:Vereinshaus VfL Goldstein\, Zur Waldau 12\, Frankfurt\, Hessen\, 60529\, Deutschland
CATEGORIES:#BeActive Schnuppern
ATTACH;FMTTYPE=image/jpeg:https://beactive-frankfurt.de/wp-content/uploads/2025/07/Schnuppern_GymnastikVFL.jpg
END:VEVENT
BEGIN:VEVENT
DTSTART;TZID=Europe/Berlin:20250914T100000
DTEND;TZID=Europe/Berlin:20250914T140000
DTSTAMP:20260424T094012
CREATED:20250818T131317Z
LAST-MODIFIED:20250818T131317Z
UID:10000827-1757844000-1757858400@beactive-frankfurt.de
SUMMARY:Senioren - Nicht mit mir - Kurs beim VfL Goldstein
DESCRIPTION:Seid dabei! Sicherheit und Selbstbewusstsein für Senioren \nFühlt ihr euch manchmal unsicher\, wenn ihr allein unterwegs seid? Oder möchtet ihr lernen\, wie ihr euch in unangenehmen Situationen behaupten könnt? Dann haben wir genau das Richtige für euch! Unser Gewaltpräventionskurs für Senioren hilft euch\, mehr Selbstvertrauen zu gewinnen und euch im Alltag sicherer zu fühlen. \nWas erwartet euch? \nIn diesem praxisnahen Kurs zeigen wir euch\, wie ihr Gefahrensituationen frühzeitig erkennt und euch effektiv davor schützen könnt. Ihr lernt einfache\, aber wirkungsvolle Methoden der Selbstbehauptung und Deeskalation – und das alles in einer angenehmen und sicheren Umgebung. Zudem erfahrt ihr\, wie Betrüger vorgehen und welche Tricks sie anwenden\, damit ihr euch vor ihnen schützen könnt. Ein weiterer wichtiger Bestandteil des Kurses ist die Verteidigung mit Alltagsgegenständen\, damit ihr im Ernstfall schnell und sicher reagieren könnt. \nKursdetails: \nWann? Samstag\, 13.09.2025\, 13:00 – 17:00 Uhr\nSonntag\, 14.09.2025\, 10:00 – 14:00 Uhr \nWo? Im Vereinsheim VfL Goldstein\, Zur Waldau 12\, 1.OG \nKosten: VfL-Mitglieder: 70 EUR                   Nicht-Mitglieder: 80 EUR \nWarum solltet ihr teilnehmen?\nMehr Sicherheit im Alltag\, Stärkung eures Selbstbewusstseins\, Praktische Übungen\, die einfach umzusetzen sind\, Einfühlsame und kompetente Trainer\, Erkennen gängiger Tricks von Betrügern \nJetzt anmelden! \nKurse – Deinen Sport finden – Sportangebot | VfL Goldstein 1953 e. V. – Wir sind Sport
URL:https://beactive-frankfurt.de/veranstaltung/senioren-nicht-mit-mir-kurs-beim-vfl-goldstein/2025-09-14/
LOCATION:Vereinshaus VfL Goldstein\, Zur Waldau 12\, Frankfurt\, Hessen\, 60529\, Deutschland
CATEGORIES:#BeActive im Alter,#Beactive Inklusion,#BeActive Schnuppern
ATTACH;FMTTYPE=image/jpeg:https://beactive-frankfurt.de/wp-content/uploads/2025/08/csm_Standhaft_bleiben-Workshop_beim_TV_Rehlingen_27-09-2024_Foto-DTB___12__03bf3ca397-1.jpg
ORGANIZER;CN="VfL Goldstein":MAILTO:benjamin.kranzdorf@sprktreis-frankfurt.de
END:VEVENT
BEGIN:VEVENT
DTSTART;TZID=Europe/Berlin:20250913T130000
DTEND;TZID=Europe/Berlin:20250913T170000
DTSTAMP:20260424T094012
CREATED:20250818T131317Z
LAST-MODIFIED:20250818T131317Z
UID:10000826-1757768400-1757782800@beactive-frankfurt.de
SUMMARY:Senioren - Nicht mit mir - Kurs beim VfL Goldstein
DESCRIPTION:Seid dabei! Sicherheit und Selbstbewusstsein für Senioren \nFühlt ihr euch manchmal unsicher\, wenn ihr allein unterwegs seid? Oder möchtet ihr lernen\, wie ihr euch in unangenehmen Situationen behaupten könnt? Dann haben wir genau das Richtige für euch! Unser Gewaltpräventionskurs für Senioren hilft euch\, mehr Selbstvertrauen zu gewinnen und euch im Alltag sicherer zu fühlen. \nWas erwartet euch? \nIn diesem praxisnahen Kurs zeigen wir euch\, wie ihr Gefahrensituationen frühzeitig erkennt und euch effektiv davor schützen könnt. Ihr lernt einfache\, aber wirkungsvolle Methoden der Selbstbehauptung und Deeskalation – und das alles in einer angenehmen und sicheren Umgebung. Zudem erfahrt ihr\, wie Betrüger vorgehen und welche Tricks sie anwenden\, damit ihr euch vor ihnen schützen könnt. Ein weiterer wichtiger Bestandteil des Kurses ist die Verteidigung mit Alltagsgegenständen\, damit ihr im Ernstfall schnell und sicher reagieren könnt. \nKursdetails: \nWann? Samstag\, 13.09.2025\, 13:00 – 17:00 Uhr\nSonntag\, 14.09.2025\, 10:00 – 14:00 Uhr \nWo? Im Vereinsheim VfL Goldstein\, Zur Waldau 12\, 1.OG \nKosten: VfL-Mitglieder: 70 EUR                   Nicht-Mitglieder: 80 EUR \nWarum solltet ihr teilnehmen?\nMehr Sicherheit im Alltag\, Stärkung eures Selbstbewusstseins\, Praktische Übungen\, die einfach umzusetzen sind\, Einfühlsame und kompetente Trainer\, Erkennen gängiger Tricks von Betrügern \nJetzt anmelden! \nKurse – Deinen Sport finden – Sportangebot | VfL Goldstein 1953 e. V. – Wir sind Sport
URL:https://beactive-frankfurt.de/veranstaltung/senioren-nicht-mit-mir-kurs-beim-vfl-goldstein/2025-09-13/
LOCATION:Vereinshaus VfL Goldstein\, Zur Waldau 12\, Frankfurt\, Hessen\, 60529\, Deutschland
CATEGORIES:#BeActive im Alter,#Beactive Inklusion,#BeActive Schnuppern
ATTACH;FMTTYPE=image/jpeg:https://beactive-frankfurt.de/wp-content/uploads/2025/08/csm_Standhaft_bleiben-Workshop_beim_TV_Rehlingen_27-09-2024_Foto-DTB___12__03bf3ca397-1.jpg
ORGANIZER;CN="VfL Goldstein":MAILTO:benjamin.kranzdorf@sprktreis-frankfurt.de
END:VEVENT
END:VCALENDAR